BEGIN:VCALENDAR
VERSION:2.0
PRODID:-//Tschann Libraire - ECPv6.15.20//NONSGML v1.0//EN
CALSCALE:GREGORIAN
METHOD:PUBLISH
X-ORIGINAL-URL:https://tschannlibraire.fr
X-WR-CALDESC:Évènements pour Tschann Libraire
REFRESH-INTERVAL;VALUE=DURATION:PT1H
X-Robots-Tag:noindex
X-PUBLISHED-TTL:PT1H
BEGIN:VTIMEZONE
TZID:Europe/Paris
BEGIN:DAYLIGHT
TZOFFSETFROM:+0100
TZOFFSETTO:+0200
TZNAME:CEST
DTSTART:20240331T010000
END:DAYLIGHT
BEGIN:STANDARD
TZOFFSETFROM:+0200
TZOFFSETTO:+0100
TZNAME:CET
DTSTART:20241027T010000
END:STANDARD
BEGIN:DAYLIGHT
TZOFFSETFROM:+0100
TZOFFSETTO:+0200
TZNAME:CEST
DTSTART:20250330T010000
END:DAYLIGHT
BEGIN:STANDARD
TZOFFSETFROM:+0200
TZOFFSETTO:+0100
TZNAME:CET
DTSTART:20251026T010000
END:STANDARD
BEGIN:DAYLIGHT
TZOFFSETFROM:+0100
TZOFFSETTO:+0200
TZNAME:CEST
DTSTART:20260329T010000
END:DAYLIGHT
BEGIN:STANDARD
TZOFFSETFROM:+0200
TZOFFSETTO:+0100
TZNAME:CET
DTSTART:20261025T010000
END:STANDARD
END:VTIMEZONE
BEGIN:VEVENT
DTSTART;TZID=Europe/Paris:20250420T170000
DTEND;TZID=Europe/Paris:20250420T200000
DTSTAMP:20260421T121726
CREATED:20250418T090447Z
LAST-MODIFIED:20250418T103021Z
UID:2091-1745168400-1745179200@tschannlibraire.fr
SUMMARY:Klaus Huber 100 avec l'Ensemble Alternance
DESCRIPTION:Dernier volet de l’hommage rendu à Klaus Huber (1924-2017)\, ami et partenaire de création de l’Ensemble Alternance pendant plus de deux décennies\, à l’occasion du Centenaire de sa naissance. \n\n\n\nKlaus Huber était fin connaisseur de l’organologie et des musiques du Moyen-Âge et de la Renaissance. Ces périodes de l’histoire de la musique irriguent son oeuvre de façon constante et prégnante. En réaction à la Guerre du Golfe (1990-91)\, Klaus Huber manifeste une curiosité pour la culture et la musique arabes qui lui ouvrent les portes d’un univers musical démultiplié avec un usage ciselé des micro-intervalles et des changements de scordatura (manière d’accorder les instruments)\, qui ne sont pas sans rappeler ceux d’un illustre Maître en la matière et prédécesseur de quelques siècles\, Heinrich-Ignaz-Franz Biber. \n\n\n\nEnsemble AlternanceJasmine Eudeline violon\, viole d’amourFrédéric Baldassare\, violoncelle Sébastien D’hérin\, clavecin  Jean-Luc Menet\, flûte \n\n\n\navec le concours de la Dive Note et les Amis de l’Ensemble Alternance (Ulrike Kolb) \n\n\n\n\n\n\n\nEntrée : 22€.Étudiant et demandeur d’emploi : 16€. Moins de 12 ans : gratuit \n\n\n\nRéservations : tschann@free.fr / 01 43 35 42 05Achat et retrait des billets au Reid Hall ou à la Libraire Tschann\, 125 bd. Montparnasse. \n\n\n\n\n\n\n\nProgramme\n\n\n\nHeinrich Ignaz Franz BiberSonate du rosaire n°2 violon\, violoncelle\, clavecinKlaus HuberPartita VI et III violoncelle\, clavecin Henry PurcellFantaisie à trois voix flûte\, viole d’amour\, violoncelle Klaus HuberEin hauch von Unzeit flûte basse\, viole d’amour\, violoncelle Alessandro SolbiatiCes miroirs jumeaux flûte alto\, viole d’amourHeinrich Ignaz Franz BiberSonate du rosaire n°10 violon\, violoncelle\, clavecin \n\n\n\n\n\n\n\n\n\n\n\n\n\nLieu
URL:https://tschannlibraire.fr/evenement/klaus-huber-100-avec-lensemble-alternance/
LOCATION:Reid Hall\, 4 rue de Chevreuse\, Paris\, 75006
CATEGORIES:Hors les murs
ATTACH;FMTTYPE=image/jpeg:https://tschannlibraire.fr/wp-content/uploads/2024/11/Huber.jpg
END:VEVENT
END:VCALENDAR