BEGIN:VCALENDAR
VERSION:2.0
PRODID:-//Tschann Libraire - ECPv6.15.20//NONSGML v1.0//EN
CALSCALE:GREGORIAN
METHOD:PUBLISH
X-WR-CALNAME:Tschann Libraire
X-ORIGINAL-URL:https://tschannlibraire.fr
X-WR-CALDESC:Évènements pour Tschann Libraire
REFRESH-INTERVAL;VALUE=DURATION:PT1H
X-Robots-Tag:noindex
X-PUBLISHED-TTL:PT1H
BEGIN:VTIMEZONE
TZID:Europe/Paris
BEGIN:DAYLIGHT
TZOFFSETFROM:+0100
TZOFFSETTO:+0200
TZNAME:CEST
DTSTART:20230326T010000
END:DAYLIGHT
BEGIN:STANDARD
TZOFFSETFROM:+0200
TZOFFSETTO:+0100
TZNAME:CET
DTSTART:20231029T010000
END:STANDARD
BEGIN:DAYLIGHT
TZOFFSETFROM:+0100
TZOFFSETTO:+0200
TZNAME:CEST
DTSTART:20240331T010000
END:DAYLIGHT
BEGIN:STANDARD
TZOFFSETFROM:+0200
TZOFFSETTO:+0100
TZNAME:CET
DTSTART:20241027T010000
END:STANDARD
BEGIN:DAYLIGHT
TZOFFSETFROM:+0100
TZOFFSETTO:+0200
TZNAME:CEST
DTSTART:20250330T010000
END:DAYLIGHT
BEGIN:STANDARD
TZOFFSETFROM:+0200
TZOFFSETTO:+0100
TZNAME:CET
DTSTART:20251026T010000
END:STANDARD
END:VTIMEZONE
BEGIN:VEVENT
DTSTART;TZID=Europe/Paris:20241202T193000
DTEND;TZID=Europe/Paris:20241202T213000
DTSTAMP:20260422T171803
CREATED:20241119T164917Z
LAST-MODIFIED:20241119T165045Z
UID:877-1733167800-1733175000@tschannlibraire.fr
SUMMARY:Roland Auzet\, Le Temps ne passe pas\, il laisse des traces\, c'est tout
DESCRIPTION:Tschann Libraire et les éditions Les Solitaires Intempestifs vous invitent à une rencontre avec Roland Auzet\, à l’occasion de la parution de son livre Le Temps ne passe pas il laisse des traces c’est tout : Théâtre\, Musique\, Opéra.Performances et lectures avec Anne Alvaro\, Thibault Vinçon\, Gaël Baron\, Wilfried Wendling… \n\n\n\nDiscussion animée par Pierre-Paul Zalio\, sociologue et président du Campus Condorcet. \n\n\n\n\n\n\n\n\n\n\n\nLieu
URL:https://tschannlibraire.fr/evenement/roland-auzet-le-temps-ne-passe-pas-il-laisse-des-traces-cest-tout/
LOCATION:Tschann Libraire\, 125 boulevard du Montparnasse\, Paris\, 75006
CATEGORIES:Dans les murs
ATTACH;FMTTYPE=image/jpeg:https://tschannlibraire.fr/wp-content/uploads/2024/11/9782846817615_1_75.jpg
END:VEVENT
BEGIN:VEVENT
DTSTART;TZID=Europe/Paris:20241203T193000
DTEND;TZID=Europe/Paris:20241203T213000
DTSTAMP:20260422T171803
CREATED:20241119T171454Z
LAST-MODIFIED:20241119T171459Z
UID:885-1733254200-1733261400@tschannlibraire.fr
SUMMARY:Michel Collot\, La Face sensible de la Terre / Un nouveau sentiment de la nature
DESCRIPTION:Tschann Libraire\, les éditions Le Pommier et les éditions Corti vous invitent à une rencontre avec Michel Collot à l’occasion de la parution de ses livres La face sensible de la Terre : paysage et écologie et Un nouveau sentiment de la nature. L’auteur s’entretiendra avec Colette Camelin. \n\n\n\n\n\n\n\n\n\n\n\nLieu
URL:https://tschannlibraire.fr/evenement/michel-collot-la-face-sensible-de-la-terre-un-nouveau-sentiment-de-la-nature/
LOCATION:Tschann Libraire\, 125 boulevard du Montparnasse\, Paris\, 75006
CATEGORIES:Dans les murs
ATTACH;FMTTYPE=image/jpeg:https://tschannlibraire.fr/wp-content/uploads/2024/11/9782746527898_1_75.jpg
END:VEVENT
BEGIN:VEVENT
DTSTART;TZID=Europe/Paris:20241207T200000
DTEND;TZID=Europe/Paris:20241207T220000
DTSTAMP:20260422T171803
CREATED:20241205T102651Z
LAST-MODIFIED:20241205T102821Z
UID:1117-1733601600-1733608800@tschannlibraire.fr
SUMMARY:Louis Sciara (dir.)\, Troubles du neurodéveloppement ?
DESCRIPTION:Tschann Libraire et les Éditions Érès sont heureux de vous inviter à rencontrer et à débattre avec les auteurs de l’ouvrage Troubles du neurodéveloppement ? \n\n\n\nSous la direction de Louis Sciara\, psychiatre\, psychanalyste\, membre de l’Association lacanienne internationale (ALI)Anna Konrad\, psychiatre\, psychanalyste\, membre d’Analyse freudienneSandrine Calmettes\, psychiatre\, psychanalyste\, membre de l’ALI.Christian Rey\, pédosychiatre\, psychanalyste\, membre de l’ALI.\n\n\n\nEn présence des discutantsPatrick Guyomard\, psychanalyste\, président de la Société de Psychanalyse Freudienne\, directeur des éditions Campagne Première ;Dominique Janin-Duc\, psychanalyste\, psychologue\, membre de l’ALI. \n\n\n\n\n\n\n\n\n\n\n\nLieu
URL:https://tschannlibraire.fr/evenement/louis-sciara-troubles-du-neurodeveloppement/
LOCATION:Tschann Libraire\, 125 boulevard du Montparnasse\, Paris\, 75006
CATEGORIES:Dans les murs
ATTACH;FMTTYPE=image/jpeg:https://tschannlibraire.fr/wp-content/uploads/2024/12/9782749280813_1_75.jpg
END:VEVENT
BEGIN:VEVENT
DTSTART;TZID=Europe/Paris:20241208T150000
DTEND;TZID=Europe/Paris:20241208T170000
DTSTAMP:20260422T171803
CREATED:20241205T103809Z
LAST-MODIFIED:20241205T103811Z
UID:1125-1733670000-1733677200@tschannlibraire.fr
SUMMARY:Éric Smadja\, Travail de couple\, travail avec les couples
DESCRIPTION:Tschann Libraire et les éditions Érès vous invitent à une rencontre avec Éric Smadja à l’occasion de la parution de son livre Travail de couple\, travail avec les couples. \n\n\n\n\n\n\n\n\n\n\n\nLieu
URL:https://tschannlibraire.fr/evenement/eric-smadja-travail-de-couple-travail-avec-les-couples/
LOCATION:Tschann Libraire\, 125 boulevard du Montparnasse\, Paris\, 75006
CATEGORIES:Dans les murs
ATTACH;FMTTYPE=image/jpeg:https://tschannlibraire.fr/wp-content/uploads/2024/12/9782848359236_1_75.jpg
END:VEVENT
END:VCALENDAR