BEGIN:VCALENDAR
VERSION:2.0
PRODID:-//Tschann Libraire - ECPv6.15.20//NONSGML v1.0//EN
CALSCALE:GREGORIAN
METHOD:PUBLISH
X-ORIGINAL-URL:https://tschannlibraire.fr
X-WR-CALDESC:Évènements pour Tschann Libraire
REFRESH-INTERVAL;VALUE=DURATION:PT1H
X-Robots-Tag:noindex
X-PUBLISHED-TTL:PT1H
BEGIN:VTIMEZONE
TZID:Europe/Paris
BEGIN:DAYLIGHT
TZOFFSETFROM:+0100
TZOFFSETTO:+0200
TZNAME:CEST
DTSTART:20240331T010000
END:DAYLIGHT
BEGIN:STANDARD
TZOFFSETFROM:+0200
TZOFFSETTO:+0100
TZNAME:CET
DTSTART:20241027T010000
END:STANDARD
BEGIN:DAYLIGHT
TZOFFSETFROM:+0100
TZOFFSETTO:+0200
TZNAME:CEST
DTSTART:20250330T010000
END:DAYLIGHT
BEGIN:STANDARD
TZOFFSETFROM:+0200
TZOFFSETTO:+0100
TZNAME:CET
DTSTART:20251026T010000
END:STANDARD
BEGIN:DAYLIGHT
TZOFFSETFROM:+0100
TZOFFSETTO:+0200
TZNAME:CEST
DTSTART:20260329T010000
END:DAYLIGHT
BEGIN:STANDARD
TZOFFSETFROM:+0200
TZOFFSETTO:+0100
TZNAME:CET
DTSTART:20261025T010000
END:STANDARD
END:VTIMEZONE
BEGIN:VEVENT
DTSTART;TZID=Europe/Paris:20250916T200000
DTEND;TZID=Europe/Paris:20250916T220000
DTSTAMP:20260420T032701
CREATED:20250911T151018Z
LAST-MODIFIED:20251026T141032Z
UID:2459-1758052800-1758060000@tschannlibraire.fr
SUMMARY:Jean-Jacques Gorog\, Lacan\, Socrate : le désir
DESCRIPTION:Tschann Libraire et les Éditions Stilus vous invitent à une rencontre avec Jean-Jacques Gorog\, psychanalyste\, à l’occasion de la parution de son livre Lacan\, Socrate : le désir. \nLe mot « désir » a subi dans sa traduction du Wunsch freudien une transformation au cours de laquelle Lacan a utilisé toutes les ressources de la langue française pour en faire valoir les variations. La psychanalyse doit faire face aux entrelacements du désir sexuel\, du désir de mort\, autre nom de la pulsion de mort\, et du vœu de mort à l’endroit du père (Wunsch). Socrate se révèle un modèle pour le désir de l’analyste\, déjà affirmé dans son séminaire Le Transfert ainsi que dans Mise en question du psychanalyste\, texte de Lacan publié récemment\, pour son désir de mort fût-il commandé par une voix dont il ne recule pas à la dire hallucinée\, donc psychotique.
URL:https://tschannlibraire.fr/evenement/jean-jacques-gorog-lacan-socrate-le-desir/
LOCATION:Tschann Libraire\, 125 boulevard du Montparnasse\, Paris\, 75006
CATEGORIES:Dans les murs
ATTACH;FMTTYPE=image/png:https://tschannlibraire.fr/wp-content/uploads/2025/08/image-4.png
END:VEVENT
BEGIN:VEVENT
DTSTART;TZID=Europe/Paris:20250917T193000
DTEND;TZID=Europe/Paris:20250917T220000
DTSTAMP:20260420T032701
CREATED:20250911T150828Z
LAST-MODIFIED:20251026T144732Z
UID:2513-1758137400-1758146400@tschannlibraire.fr
SUMMARY:François Rachline\, Inhumanité : que faire face aux massacres et aux génocides ?
DESCRIPTION:Tschann Libraire et les Éditions Hermann vous invitent à une rencontre avec François Rachline autour de son dernier livre Inhumanité : que faire face aux massacres et aux génocides ? L’auteur s’entretiendra avec Arthur Cohen. \nAprès une courte période où l’humanité a pu croire en la fin de l’histoire et en son progrès moral\, la violence extrême a réapparu : massacres de masse\, génocides\, crimes contre l’humanité\, crimes de guerre\, féminicides\, assassinats… Partout\, les digues ont sauté – au point d’ébranler l’idée même d’humanité\, dont le visage se fragmente chaque jour davantage.En auscultant sans complaisance notre époque sanguinaire\, François Rachline démonte les mécanismes de la déshumanisation\, de la confusion entre racines et identité\, du vacillement de nos valeurs universalistes\, pour mettre à jour une vérité troublante : nous portons tous en nous la capacité du pire. Une question s’impose : et si l’inhumanité était constitutive de l’être humain ? Dès lors\, devant l’absence manifeste de remède face à la barbarie\, faut-il désespérer de nous-mêmes ?Un essai qui\, en refusant les facilités moralisatrices\, frappe juste et fort – et nous invite à regarder en face ce que nous sommes vraiment. Car c’est peut-être dans cette lucidité que réside notre dernière chance de rester humains.
URL:https://tschannlibraire.fr/evenement/francois-rachline-inhumanite-que-faire-face-aux-massacres-et-aux-genocides/
LOCATION:Tschann Libraire Jeunesse\, 125 boulevard du Montparnasse\, Paris\, 75006
CATEGORIES:Dans les murs
ATTACH;FMTTYPE=image/jpeg:https://tschannlibraire.fr/wp-content/uploads/2025/09/9791037043870_1_75.jpg
END:VEVENT
BEGIN:VEVENT
DTSTART;TZID=Europe/Paris:20250917T193000
DTEND;TZID=Europe/Paris:20250917T220000
DTSTAMP:20260420T032701
CREATED:20250911T150954Z
LAST-MODIFIED:20251026T144746Z
UID:2425-1758137400-1758146400@tschannlibraire.fr
SUMMARY:Rencontre croisée : Bernard Chambaz\, Marine Riguet et Marie Roumégas aux Éditions Unes.
DESCRIPTION:Tschann Libraire et les Éditions Unes vous invitent à une rencontre croisée et intergénérationnelle entre trois poètes et poétesses contemporains. Au cours de la discussion\, Bernard Chambaz présentera son recueil Comment un cœur peut-il et Marie Roumégas son recueil Premiers espaces\, parus respectivement en avril et juin 2025. Nous fêterons aussi le lancement du premier recueil de Marine Riguet\, Antigone sur la route\, à paraître le 12 septembre.
URL:https://tschannlibraire.fr/evenement/rencontre-croisee-bernard-chambaz-marine-riguet-et-marie-roumegas/
LOCATION:Tschann Libraire\, 125 boulevard du Montparnasse\, Paris\, 75006
CATEGORIES:Dans les murs
ATTACH;FMTTYPE=image/jpeg:https://tschannlibraire.fr/wp-content/uploads/2025/08/antigone-unes.jpg
END:VEVENT
BEGIN:VEVENT
DTSTART;TZID=Europe/Paris:20250918T193000
DTEND;TZID=Europe/Paris:20250918T220000
DTSTAMP:20260420T032701
CREATED:20250911T150731Z
LAST-MODIFIED:20251026T144712Z
UID:2453-1758223800-1758232800@tschannlibraire.fr
SUMMARY:[Reporté] Antonia Soulez\, Le Spectre Platon chez les analytiques
DESCRIPTION:Tschann Libraire et les éditions des Presses universitaires de Vincennes vous invitent à une rencontre avec la philosophe Antonia Soulez autour de son ouvrage récemment paru\, Le Spectre Platon chez les analytiques. Elle discutera avec les philosophes Bruno Clément et Arild Utaker\, ainsi qu’avec l’éditeur Damien De Blic. \nDans une analyse du lien entre langage et pensée\, l’auteure croise le parcours d’une étudiante passant de la philosophie grecque à l’analytique avec la relation des philosophes analytiques avec le platonisme. Elle présente ensuite la figure de Ludwig Wittgenstein comme incarnant cette tension et étudie leurs influences réciproques.
URL:https://tschannlibraire.fr/evenement/antonia-soulez-le-spectre-platon-chez-les-analytiques/
LOCATION:Tschann Libraire\, 125 boulevard du Montparnasse\, Paris\, 75006
CATEGORIES:Dans les murs
ATTACH;FMTTYPE=image/png:https://tschannlibraire.fr/wp-content/uploads/2025/08/image-3.png
END:VEVENT
BEGIN:VEVENT
DTSTART;TZID=Europe/Paris:20250923T193000
DTEND;TZID=Europe/Paris:20250923T220000
DTSTAMP:20260420T032701
CREATED:20250922T162812Z
LAST-MODIFIED:20251026T130812Z
UID:2562-1758655800-1758664800@tschannlibraire.fr
SUMMARY:Dominique Rabaté\, Limites de l'empathie
DESCRIPTION:Tschann Libraire et les éditions Corti vous invitent à une rencontre avec Dominique Rabaté\, à l’occasion de la parution de son livre Limites de l’empathie. L’auteur\, critique et professeur de littérature française\, dialoguera avec Michel Murat\, critique et professeur également. \nPeut-on vraiment se mettre à la place d’autrui\, se prendre pour un autre ?Est-ce là le secret de la fiction\, son opération particulière ? En lisant\, nous ne cessons de régler le foyer de ce qui permet de nous reconnaître dans l’œuvre à laquelle nous participons\, même passivement. Ce réglage conduit à identifier la part subjective qui est mobilisée en nous\, par qui est indispensable à la participation littéraire ou esthétique. Mais il faut aussi reconnaître que cette part n’est pas le tout du sujet\, qu’elle même en rapport avec une dimension non-subjective du sujet.La littérature est ainsi conçu moins comme le triomphe de l’empathie que comme une façon d’en éprouver le domaine\, d’en interroger les bornes subjectives et morales\, en tentant de savoir jusqu’où je peux me mettre à la place de l’autre.Si la lecture a le pouvoir de me changer\, ce n’est pas parce qu’elle me distrait de moi\, c’est parce qu’elle vient me rappeler singulièrement que je ne sais pas toujours qui est celui qui lit en moi. \nDominique Rabaté
URL:https://tschannlibraire.fr/evenement/dominique-rabate-limites-de-lempathie/
LOCATION:Tschann Libraire\, 125 boulevard du Montparnasse\, Paris\, 75006
CATEGORIES:Dans les murs
ATTACH;FMTTYPE=image/jpeg:https://tschannlibraire.fr/wp-content/uploads/2025/09/9782714313461_1_75.jpg
END:VEVENT
BEGIN:VEVENT
DTSTART;TZID=Europe/Paris:20250924T193000
DTEND;TZID=Europe/Paris:20250924T220000
DTSTAMP:20260420T032701
CREATED:20250918T150838Z
LAST-MODIFIED:20251026T144703Z
UID:2438-1758742200-1758751200@tschannlibraire.fr
SUMMARY:Francesco Patriarca\, Clay Ghost
DESCRIPTION:Tschann Libraire et Davide Ghaleb Editore (Rome) vous invitent à une rencontre avec Francesco Patriarca\, artiste italien aux pratiques multiples : peinture\, photographie\, dessin\, installation\, musique… Il présentera son dernier projet\, à la fois exposition et livre\, intitulé Clay Ghost et discutera avec le philosophe Hadrien France-Lanord et Davide Zaccagnini\, co-auteurs des textes accompagnant les œuvres\, ainsi qu’avec Sébastien Delot\, historien de l’art et curateur. \nLe projet Clay Ghost a été exposé à Rome à la Galleria Eddart\, à Paris à la galerie Yvon Lambert\, à Londres à Artvisor et à New York aux Coffey Street Studios. Le livre présente un travail photographique et pictural qui interroge la puissance d’évocation supérieure de l’absence face à la présence. L’artiste tente d’ouvrir un espace où le visible et l’invisible ne s’opposent plus mais se complètent\, où l’imaginaire co-existe avec le figuré.
URL:https://tschannlibraire.fr/evenement/francesco-patriarca-clay-ghost/
LOCATION:Tschann Libraire\, 125 boulevard du Montparnasse\, Paris\, 75006
CATEGORIES:Dans les murs
ATTACH;FMTTYPE=image/png:https://tschannlibraire.fr/wp-content/uploads/2025/08/image-2.png
END:VEVENT
END:VCALENDAR