BEGIN:VCALENDAR
VERSION:2.0
PRODID:-//Tschann Libraire - ECPv6.15.20//NONSGML v1.0//EN
CALSCALE:GREGORIAN
METHOD:PUBLISH
X-WR-CALNAME:Tschann Libraire
X-ORIGINAL-URL:https://tschannlibraire.fr
X-WR-CALDESC:Évènements pour Tschann Libraire
REFRESH-INTERVAL;VALUE=DURATION:PT1H
X-Robots-Tag:noindex
X-PUBLISHED-TTL:PT1H
BEGIN:VTIMEZONE
TZID:Europe/Paris
BEGIN:DAYLIGHT
TZOFFSETFROM:+0100
TZOFFSETTO:+0200
TZNAME:CEST
DTSTART:20240331T010000
END:DAYLIGHT
BEGIN:STANDARD
TZOFFSETFROM:+0200
TZOFFSETTO:+0100
TZNAME:CET
DTSTART:20241027T010000
END:STANDARD
BEGIN:DAYLIGHT
TZOFFSETFROM:+0100
TZOFFSETTO:+0200
TZNAME:CEST
DTSTART:20250330T010000
END:DAYLIGHT
BEGIN:STANDARD
TZOFFSETFROM:+0200
TZOFFSETTO:+0100
TZNAME:CET
DTSTART:20251026T010000
END:STANDARD
BEGIN:DAYLIGHT
TZOFFSETFROM:+0100
TZOFFSETTO:+0200
TZNAME:CEST
DTSTART:20260329T010000
END:DAYLIGHT
BEGIN:STANDARD
TZOFFSETFROM:+0200
TZOFFSETTO:+0100
TZNAME:CET
DTSTART:20261025T010000
END:STANDARD
END:VTIMEZONE
BEGIN:VEVENT
DTSTART;TZID=Europe/Paris:20251202T193000
DTEND;TZID=Europe/Paris:20251202T220000
DTSTAMP:20260419T223738
CREATED:20251201T154326Z
LAST-MODIFIED:20251201T154326Z
UID:2877-1764703800-1764712800@tschannlibraire.fr
SUMMARY:Didier Cahen
DESCRIPTION:Tschann Libraire et les éditions Tarabuste vous invitent à une rencontre avec Didier Cahen\, autour de son dernier ouvrage Petit précis de poésie\, pour les temps actuels. Didier Cahen dialoguera avec Anne Dujin\, rédactrice en chef de la revue Esprit. Le mardi 2 décembre 2025 à 19h30.
URL:https://tschannlibraire.fr/evenement/didier-cahen/
LOCATION:Tschann Libraire\, 125 boulevard du Montparnasse\, Paris\, 75006
CATEGORIES:Dans les murs
ATTACH;FMTTYPE=image/png:https://tschannlibraire.fr/wp-content/uploads/2025/12/canvas.png
END:VEVENT
BEGIN:VEVENT
DTSTART;TZID=Europe/Paris:20251210T193000
DTEND;TZID=Europe/Paris:20251210T220000
DTSTAMP:20260419T223738
CREATED:20251216T074638Z
LAST-MODIFIED:20251216T074733Z
UID:2880-1765395000-1765404000@tschannlibraire.fr
SUMMARY:Henri Atlan en dialogue avec Alexeï Grinbaum
DESCRIPTION:Tschann Libraire et les éditions Odile Jacob vous invitent à une rencontre avec Henri Atlan\, autour de son dernier ouvrage Pour un athéisme éclairé\, des Lumières au monde hébraïque\, l’hypothèse inutile. Henri Atlan dialoguera avec Alexeï Grinbaum\, directeur de recherche au CEA-Saclay\, théoricien de l’information quantique. Le mardi 16 décembre 2025 à 19h30.
URL:https://tschannlibraire.fr/evenement/henri-atlan-en-dialogue-avec-alexei-grinbaum/
LOCATION:Tschann Libraire\, 125 boulevard du Montparnasse\, Paris\, 75006
CATEGORIES:Dans les murs
ATTACH;FMTTYPE=image/jpeg:https://tschannlibraire.fr/wp-content/uploads/2025/12/a93ae1f4c0be14797845a4bf5af7b6d2ea677ae9805be9539dd52e241b474d8f.jpg
END:VEVENT
BEGIN:VEVENT
DTSTART;TZID=Europe/Paris:20251212T170000
DTEND;TZID=Europe/Paris:20251212T190000
DTSTAMP:20260419T223738
CREATED:20251209T094119Z
LAST-MODIFIED:20251210T220222Z
UID:2884-1765558800-1765566000@tschannlibraire.fr
SUMMARY:Guillaume Métayer et Djohr
DESCRIPTION:Tschann Libraire et les éditions La vies des classiques vous invitent à une rencontre avec Guillaume Métayer et Djohr\, autour de leur dernier ouvrage Le Dinosaulyre\, suivi de L’étymosaure. Guillaume Métayer et Djohr dialogueront avec Laure de Chantal. Le vendredi 12 décembre 2025 à 17h00.
URL:https://tschannlibraire.fr/evenement/guillaume-metayer/
LOCATION:Tschann Libraire\, 125 boulevard du Montparnasse\, Paris\, 75006
CATEGORIES:Dans les murs
ATTACH;FMTTYPE=image/jpeg:https://tschannlibraire.fr/wp-content/uploads/2025/12/293abc3e1e9fba77015cb61ef3308769cb1a374ed353847d3f1f981302e3fc37.jpg
END:VEVENT
BEGIN:VEVENT
DTSTART;TZID=Europe/Paris:20251214T110000
DTEND;TZID=Europe/Paris:20251214T130000
DTSTAMP:20260419T223738
CREATED:20251209T084022Z
LAST-MODIFIED:20251210T220423Z
UID:2892-1765710000-1765717200@tschannlibraire.fr
SUMMARY:Rencontre reportée d'Hélène Ewenczyk
DESCRIPTION:La rencontre avec Hélène Ewenczyk de ce dimanche 14 décembre à 11h autour de son recueil poétique Où vas-tu? est reportée au dimanche 18 janvier 2026 à 11h. Lecture et dédicace accompagneront ce moment.
URL:https://tschannlibraire.fr/evenement/helene-ewenczyk/
LOCATION:Tschann Libraire\, 125 boulevard du Montparnasse\, Paris\, 75006
CATEGORIES:Dans les murs
ATTACH;FMTTYPE=image/jpeg:https://tschannlibraire.fr/wp-content/uploads/2025/12/9782336574585r.jpg
END:VEVENT
BEGIN:VEVENT
DTSTART;TZID=Europe/Paris:20251218T193000
DTEND;TZID=Europe/Paris:20251218T220000
DTSTAMP:20260419T223738
CREATED:20251215T085056Z
LAST-MODIFIED:20251216T074505Z
UID:2889-1766086200-1766095200@tschannlibraire.fr
SUMMARY:Soirée de lancement de la revue CONGRE n°2
DESCRIPTION:Tschann Libraire et le collectif poétique et artistique CONGRE\, au travers de son appendice éditorial\, vous invite à la soirée de lancement du deuxième numéro de sa « revue de poésie actuelle » : CONGRE 2. La soirée verra déambuler poètes\, poétesses et artistes pour une collection de lectures et de présentations du numéro\, qui regroupe pas moins de 25 participants et participantes.
URL:https://tschannlibraire.fr/evenement/soiree-de-lancement-de-la-revue-congre-2/
LOCATION:Tschann Libraire\, 125 boulevard du Montparnasse\, Paris\, 75006
CATEGORIES:Dans les murs
ATTACH;FMTTYPE=image/png:https://tschannlibraire.fr/wp-content/uploads/2025/12/carton-171225-A3-scaled.png
END:VEVENT
END:VCALENDAR