BEGIN:VCALENDAR
VERSION:2.0
PRODID:-//Tschann Libraire - ECPv6.15.20//NONSGML v1.0//EN
CALSCALE:GREGORIAN
METHOD:PUBLISH
X-WR-CALNAME:Tschann Libraire
X-ORIGINAL-URL:https://tschannlibraire.fr
X-WR-CALDESC:Évènements pour Tschann Libraire
REFRESH-INTERVAL;VALUE=DURATION:PT1H
X-Robots-Tag:noindex
X-PUBLISHED-TTL:PT1H
BEGIN:VTIMEZONE
TZID:Europe/Paris
BEGIN:DAYLIGHT
TZOFFSETFROM:+0100
TZOFFSETTO:+0200
TZNAME:CEST
DTSTART:20250330T010000
END:DAYLIGHT
BEGIN:STANDARD
TZOFFSETFROM:+0200
TZOFFSETTO:+0100
TZNAME:CET
DTSTART:20251026T010000
END:STANDARD
BEGIN:DAYLIGHT
TZOFFSETFROM:+0100
TZOFFSETTO:+0200
TZNAME:CEST
DTSTART:20260329T010000
END:DAYLIGHT
BEGIN:STANDARD
TZOFFSETFROM:+0200
TZOFFSETTO:+0100
TZNAME:CET
DTSTART:20261025T010000
END:STANDARD
BEGIN:DAYLIGHT
TZOFFSETFROM:+0100
TZOFFSETTO:+0200
TZNAME:CEST
DTSTART:20270328T010000
END:DAYLIGHT
BEGIN:STANDARD
TZOFFSETFROM:+0200
TZOFFSETTO:+0100
TZNAME:CET
DTSTART:20271031T010000
END:STANDARD
END:VTIMEZONE
BEGIN:VEVENT
DTSTART;TZID=Europe/Paris:20260201T150000
DTEND;TZID=Europe/Paris:20260201T170000
DTSTAMP:20260419T210645
CREATED:20260131T090915Z
LAST-MODIFIED:20260131T091747Z
UID:2948-1769958000-1769965200@tschannlibraire.fr
SUMMARY:Ce dimanche PSY-THÉ avec Marie Christine Laznik
DESCRIPTION:PSY-THÉ\nTschann Libraire et la Maison d’édition Langage sont heureux de vous convier à une rencontre avec\nMarie Chrstine Laznik à l’occasion de la parution de son livre\nPsychanalyse et génétique\, clinique des bébés à risque d’autisme.\nAnnemarie Hamad et  Jean-Paul Beaumont dialogueront avec\nMarie Christine Laznik\nPSY-THÉ
URL:https://tschannlibraire.fr/evenement/ce-dimanche-psy-the-avec-marie-christine-laznik/
LOCATION:Tschann Libraire\, 125 boulevard du Montparnasse\, Paris\, 75006
CATEGORIES:Dans les murs
ATTACH;FMTTYPE=image/jpeg:https://tschannlibraire.fr/wp-content/uploads/2026/01/099bd2a5-89a0-4982-8975-53d8fef84e4b.jpg
END:VEVENT
BEGIN:VEVENT
DTSTART;TZID=Europe/Paris:20260205T200000
DTEND;TZID=Europe/Paris:20260205T220000
DTSTAMP:20260419T210645
CREATED:20260204T192425Z
LAST-MODIFIED:20260204T193631Z
UID:2977-1770321600-1770328800@tschannlibraire.fr
SUMMARY:Lyonel Trouillot
DESCRIPTION:Nadine Eghels\, Tschann Libraire\, les Éditions Actes Sud et Textes & Voix\nvous convient à une lecture en présence de l’auteur \nLe bréviaire des anonymes \nde LYONEL TROUILLOT \nlecture par\nFrançois Marthouret \nJeudi 5 février 2026 à 20h précises chez Tschann\nRéservation: contact@textes-et-voix.fr\nParticipation aux frais: 10 euros
URL:https://tschannlibraire.fr/evenement/lyonel-trouillot/
LOCATION:Tschann Libraire\, 125 boulevard du Montparnasse\, Paris\, 75006
CATEGORIES:Dans les murs
END:VEVENT
BEGIN:VEVENT
DTSTART;TZID=Europe/Paris:20260208T150000
DTEND;TZID=Europe/Paris:20260208T170000
DTSTAMP:20260419T210645
CREATED:20260204T192313Z
LAST-MODIFIED:20260204T193617Z
UID:2972-1770562800-1770570000@tschannlibraire.fr
SUMMARY:Marielle David
DESCRIPTION:Psy-Thé\nLes éditions Chriséis et Tschann Libraire sont heureux d’accueillir\nMARIELLE DAVID pour la présentation de son livre\nPenser : le tissu\, la marche et le sexuel\navec les contributions de Bernard Golse et de Solal Rabinovitch \nLe débat réunira Marielle David avec\nLiza Serin\, Olivier Douville et Adrien Klajnmann \nDimanche 8 février 2026 de 15h à 17h \nPsy-Thé
URL:https://tschannlibraire.fr/evenement/marielle-david/
LOCATION:Tschann Libraire\, 125 boulevard du Montparnasse\, Paris\, 75006
CATEGORIES:Dans les murs
ATTACH;FMTTYPE=image/jpeg:https://tschannlibraire.fr/wp-content/uploads/2026/02/marielle-david_1.jpg
END:VEVENT
BEGIN:VEVENT
DTSTART;TZID=Europe/Paris:20260209T203000
DTEND;TZID=Europe/Paris:20260209T220000
DTSTAMP:20260419T210645
CREATED:20260209T090856Z
LAST-MODIFIED:20260209T110557Z
UID:2969-1770669000-1770674400@tschannlibraire.fr
SUMMARY:André Lacaux
DESCRIPTION:Tschann et les éditions Stilus sont heureux de rendre hommage à ANDRÉ LACAUX\nà l’occasion de la parution de son livre posthume D’APRES LACAN\, Littérature et psychanalyse .\nla soirée du lundi 9 février 2026 lui sera consacrée.\nEn présence de Catherine Millot et Luis Izcovich
URL:https://tschannlibraire.fr/evenement/andre-lacaux/
LOCATION:Tschann Libraire\, 125 boulevard du Montparnasse\, Paris\, 75006
CATEGORIES:Dans les murs
ATTACH;FMTTYPE=image/jpeg:https://tschannlibraire.fr/wp-content/uploads/2026/02/Andre-Lacaux.jpg
END:VEVENT
BEGIN:VEVENT
DTSTART;TZID=Europe/Paris:20260211T190000
DTEND;TZID=Europe/Paris:20260211T200000
DTSTAMP:20260419T210645
CREATED:20260209T090739Z
LAST-MODIFIED:20260209T110628Z
UID:2963-1770836400-1770840000@tschannlibraire.fr
SUMMARY:Tarō Okamoto
DESCRIPTION:Le mercredi 11 février 2026 à 19h une table-ronde réunira chez Tschann\nWei Sun\, historien de l’art\, doctorant à l’Université d’Heidelberg\, Benoit Buquet\, historien de l’art\, maître de conférences en histoire de l’art à l’Université de Tour et commissaire de la dernière exposition « Tarō Okamoto » au musée du Quai Branly et Hugo Daniel\, PhD\, Responsable de l’École des Modernités\, Chargé de mission curatoriale qui modèrera la soirée autour de l’ouvrage de Wei Sun \nTarō Okamoto\, la métamorphose comme avant-garde \npublié par Fage Éditions et la Fondation Giacometti.
URL:https://tschannlibraire.fr/evenement/2963/
LOCATION:Tschann Libraire\, 125 boulevard du Montparnasse\, Paris\, 75006
CATEGORIES:Dans les murs
ATTACH;FMTTYPE=image/jpeg:https://tschannlibraire.fr/wp-content/uploads/2026/02/Sun-Wei.jpg
END:VEVENT
BEGIN:VEVENT
DTSTART;TZID=Europe/Paris:20260212T193000
DTEND;TZID=Europe/Paris:20260212T220000
DTSTAMP:20260419T210645
CREATED:20260209T090639Z
LAST-MODIFIED:20260209T110659Z
UID:2958-1770924600-1770933600@tschannlibraire.fr
SUMMARY:Alain Finkielkraut et Vincent Trémolet de Villers
DESCRIPTION:Tschann Libraire et les éditions Gallimard\nvous invitent le jeudi 12 février 2026 à 19h30 à rencontrer \nAlain FINKIELKRAUT \nqui dialoguera avec \nVincent Trémolet de Villers \nà l’occasion de la parution du livre d’entretiens qu’ils viennent de publier \nLE COEUR LOURD
URL:https://tschannlibraire.fr/evenement/alain-finkielkraut-et-vincent-tremolet-de-villers/
LOCATION:Tschann Libraire\, 125 boulevard du Montparnasse\, Paris\, 75006
CATEGORIES:Dans les murs
ATTACH;FMTTYPE=image/jpeg:https://tschannlibraire.fr/wp-content/uploads/2026/02/Finkielkraut.jpg
END:VEVENT
BEGIN:VEVENT
DTSTART;TZID=Europe/Paris:20260215T150000
DTEND;TZID=Europe/Paris:20260215T170000
DTSTAMP:20260419T210645
CREATED:20260211T222424Z
LAST-MODIFIED:20260211T222424Z
UID:2987-1771167600-1771174800@tschannlibraire.fr
SUMMARY:Jacques Nassif ce dimanche
DESCRIPTION:Psy-Thé \nTschann Libraire et les éditions des crépuscules sont heureux de recevoir Dimanche 15 février 2026 à 15h00 \nJACQUES NASSIF \nqui présentera son livre L’acte analytique aujourd’hui après Lacan \nPsy-Thé
URL:https://tschannlibraire.fr/evenement/jacques-nassif-ce-dimanche/
LOCATION:Tschann Libraire\, 125 boulevard du Montparnasse\, Paris\, 75006
CATEGORIES:Dans les murs
ATTACH;FMTTYPE=image/jpeg:https://tschannlibraire.fr/wp-content/uploads/2026/02/cdb96c760effa99d0ecafa65f585896c0b63a314a4b6d662c4f5d857f6e7d433.jpg
END:VEVENT
BEGIN:VEVENT
DTSTART;TZID=Europe/Paris:20260216T200000
DTEND;TZID=Europe/Paris:20260216T220000
DTSTAMP:20260419T210645
CREATED:20260211T224900Z
LAST-MODIFIED:20260211T224900Z
UID:2992-1771272000-1771279200@tschannlibraire.fr
SUMMARY:Lundi 16\, Luis Izcovich
DESCRIPTION:Les éditions Stilus et Tschann Libraire accueilleront\nLUIS IZCOVICH\nle lundi 16 février 2026 à 20h\nIl présentera son dernier livre\nClinique différentielle du délire
URL:https://tschannlibraire.fr/evenement/lundi-16-luis-izcovich/
LOCATION:Tschann Libraire\, 125 boulevard du Montparnasse\, Paris\, 75006
CATEGORIES:Dans les murs
ATTACH;FMTTYPE=image/jpeg:https://tschannlibraire.fr/wp-content/uploads/2026/02/eb58ce6fb0e89af435110831538849530a2e9e58ef5d98f5bd1f58deb9327d0e.jpg
END:VEVENT
BEGIN:VEVENT
DTSTART;TZID=Europe/Paris:20260226T190000
DTEND;TZID=Europe/Paris:20260226T220000
DTSTAMP:20260419T210645
CREATED:20260223T215010Z
LAST-MODIFIED:20260223T215010Z
UID:3000-1772132400-1772143200@tschannlibraire.fr
SUMMARY:ALEXEY VOÏNOV /  SOIRÉE EXCEPTIONNELLE
DESCRIPTION:Jeudi 26 février 2026 à 19h Tschann Libraire et les Éditions du bout de la ville\nseront heureux de vous accueillir pour une soirée exceptionnelle en présence du romancier russe\, traducteur du français\,\nALEXEY VOÏNOV\nà l’occasion de la sortie française de son roman HIVER SANS NEIGE\nRencontre en présence de son traducteur\, Guilhem Pousson\, son éditrice en russe\, Polina de Mauny et Floréal Klein\, son éditeur français.
URL:https://tschannlibraire.fr/evenement/alexey-voinov-soiree-exceptionnelle/
LOCATION:Tschann Libraire\, 125 boulevard du Montparnasse\, Paris\, 75006
CATEGORIES:Dans les murs
ATTACH;FMTTYPE=image/jpeg:https://tschannlibraire.fr/wp-content/uploads/2026/02/photo-Alexey-Ustinov-2024-A©-Elisabeth-Roger-_-ALCA-Nouvelle-Aquitaine_168-scaled.jpg
END:VEVENT
END:VCALENDAR