BEGIN:VCALENDAR
VERSION:2.0
PRODID:-//Tschann Libraire - ECPv6.15.20//NONSGML v1.0//EN
CALSCALE:GREGORIAN
METHOD:PUBLISH
X-ORIGINAL-URL:https://tschannlibraire.fr
X-WR-CALDESC:Évènements pour Tschann Libraire
REFRESH-INTERVAL;VALUE=DURATION:PT1H
X-Robots-Tag:noindex
X-PUBLISHED-TTL:PT1H
BEGIN:VTIMEZONE
TZID:Europe/Paris
BEGIN:DAYLIGHT
TZOFFSETFROM:+0100
TZOFFSETTO:+0200
TZNAME:CEST
DTSTART:20240331T010000
END:DAYLIGHT
BEGIN:STANDARD
TZOFFSETFROM:+0200
TZOFFSETTO:+0100
TZNAME:CET
DTSTART:20241027T010000
END:STANDARD
BEGIN:DAYLIGHT
TZOFFSETFROM:+0100
TZOFFSETTO:+0200
TZNAME:CEST
DTSTART:20250330T010000
END:DAYLIGHT
BEGIN:STANDARD
TZOFFSETFROM:+0200
TZOFFSETTO:+0100
TZNAME:CET
DTSTART:20251026T010000
END:STANDARD
BEGIN:DAYLIGHT
TZOFFSETFROM:+0100
TZOFFSETTO:+0200
TZNAME:CEST
DTSTART:20260329T010000
END:DAYLIGHT
BEGIN:STANDARD
TZOFFSETFROM:+0200
TZOFFSETTO:+0100
TZNAME:CET
DTSTART:20261025T010000
END:STANDARD
END:VTIMEZONE
BEGIN:VEVENT
DTSTART;TZID=Europe/Paris:20250203T190000
DTEND;TZID=Europe/Paris:20250203T210000
DTSTAMP:20260422T155034
CREATED:20250131T161047Z
LAST-MODIFIED:20250131T165937Z
UID:1423-1738609200-1738616400@tschannlibraire.fr
SUMMARY:Jérôme Clément\, La Chine\, de Mao à Xi Jinping
DESCRIPTION:Tschann Libraire et les éditions l’Archipel vous invitent à une rencontre avec Jérôme Clément pour son livre nouvellement paru\, La Chine de Mao à Xi Jinping. \n\n\n\nAncien président du CNC et cofondateur d’Arte\, Jérôme Clément retourne en Chine 45 ans après son premier voyage\, confrontant ce qu’il a observé en 2019 à son voyage de 1974. Un regard original et informé sur la Chine de Xi Jinping\, à l’heure du plan  » China 2025 «  \n\n\n\n\n\n\n\n\n\n\n\nLieu
URL:https://tschannlibraire.fr/evenement/jerome-clement-la-chine-de-mao-a-xi-jinping/
LOCATION:Tschann Libraire\, 125 boulevard du Montparnasse\, Paris\, 75006
CATEGORIES:Dans les murs
ATTACH;FMTTYPE=image/jpeg:https://tschannlibraire.fr/wp-content/uploads/2025/01/9782809849769_1_75.jpg
END:VEVENT
END:VCALENDAR