BEGIN:VCALENDAR
VERSION:2.0
PRODID:-//Tschann Libraire - ECPv6.15.20//NONSGML v1.0//EN
CALSCALE:GREGORIAN
METHOD:PUBLISH
X-WR-CALNAME:Tschann Libraire
X-ORIGINAL-URL:https://tschannlibraire.fr
X-WR-CALDESC:Évènements pour Tschann Libraire
REFRESH-INTERVAL;VALUE=DURATION:PT1H
X-Robots-Tag:noindex
X-PUBLISHED-TTL:PT1H
BEGIN:VTIMEZONE
TZID:Europe/Paris
BEGIN:DAYLIGHT
TZOFFSETFROM:+0100
TZOFFSETTO:+0200
TZNAME:CEST
DTSTART:20240331T010000
END:DAYLIGHT
BEGIN:STANDARD
TZOFFSETFROM:+0200
TZOFFSETTO:+0100
TZNAME:CET
DTSTART:20241027T010000
END:STANDARD
BEGIN:DAYLIGHT
TZOFFSETFROM:+0100
TZOFFSETTO:+0200
TZNAME:CEST
DTSTART:20250330T010000
END:DAYLIGHT
BEGIN:STANDARD
TZOFFSETFROM:+0200
TZOFFSETTO:+0100
TZNAME:CET
DTSTART:20251026T010000
END:STANDARD
BEGIN:DAYLIGHT
TZOFFSETFROM:+0100
TZOFFSETTO:+0200
TZNAME:CEST
DTSTART:20260329T010000
END:DAYLIGHT
BEGIN:STANDARD
TZOFFSETFROM:+0200
TZOFFSETTO:+0100
TZNAME:CET
DTSTART:20261025T010000
END:STANDARD
END:VTIMEZONE
BEGIN:VEVENT
DTSTART;TZID=Europe/Paris:20250327T193000
DTEND;TZID=Europe/Paris:20250327T213000
DTSTAMP:20260422T141217
CREATED:20250320T170753Z
LAST-MODIFIED:20250321T100449Z
UID:1981-1743103800-1743111000@tschannlibraire.fr
SUMMARY:[Semaine poétique] Pierre Vinclair\, La Forme du reste
DESCRIPTION:En collaboration avec le Printemps des Poètes\, Tschann Libraire et les éditions Lurlure vous invitent à cette quatrième rencontre entre poètes. À cette occasion\, Guillaume Métayer recevra Pierre Vinclair pour son recueil La Forme du reste. \n\n\n\nOn découvre les lieux et les personnes qui font la vie quotidienne de l’auteur. En arrière-plan\, on entend les désordres du monde (émeutes\, guerres). Et au milieu de tout cela\, la vie imperturbable (mais perturbée) des saisons…La composition de chaque poème est stricte : une phrase de sept distiques\, articulant des expériences disparates. Or la forme n’est pas formaliste\, ici ; elle vaut comme un réglage particulier de notre rapport au monde. \n\n\n\n\n\n\n\n\n\n\n\nLieu
URL:https://tschannlibraire.fr/evenement/semaine-poetique-pierre-vinclair-la-forme-du-reste/
LOCATION:Tschann Libraire\, 125 boulevard du Montparnasse\, Paris\, 75006
CATEGORIES:Dans les murs
ATTACH;FMTTYPE=image/jpeg:https://tschannlibraire.fr/wp-content/uploads/2025/03/9791095997641_1_75.jpg
END:VEVENT
END:VCALENDAR