BEGIN:VCALENDAR
VERSION:2.0
PRODID:-//Tschann Libraire - ECPv6.15.20//NONSGML v1.0//EN
CALSCALE:GREGORIAN
METHOD:PUBLISH
X-ORIGINAL-URL:https://tschannlibraire.fr
X-WR-CALDESC:Évènements pour Tschann Libraire
REFRESH-INTERVAL;VALUE=DURATION:PT1H
X-Robots-Tag:noindex
X-PUBLISHED-TTL:PT1H
BEGIN:VTIMEZONE
TZID:Europe/Paris
BEGIN:DAYLIGHT
TZOFFSETFROM:+0100
TZOFFSETTO:+0200
TZNAME:CEST
DTSTART:20240331T010000
END:DAYLIGHT
BEGIN:STANDARD
TZOFFSETFROM:+0200
TZOFFSETTO:+0100
TZNAME:CET
DTSTART:20241027T010000
END:STANDARD
BEGIN:DAYLIGHT
TZOFFSETFROM:+0100
TZOFFSETTO:+0200
TZNAME:CEST
DTSTART:20250330T010000
END:DAYLIGHT
BEGIN:STANDARD
TZOFFSETFROM:+0200
TZOFFSETTO:+0100
TZNAME:CET
DTSTART:20251026T010000
END:STANDARD
BEGIN:DAYLIGHT
TZOFFSETFROM:+0100
TZOFFSETTO:+0200
TZNAME:CEST
DTSTART:20260329T010000
END:DAYLIGHT
BEGIN:STANDARD
TZOFFSETFROM:+0200
TZOFFSETTO:+0100
TZNAME:CET
DTSTART:20261025T010000
END:STANDARD
END:VTIMEZONE
BEGIN:VEVENT
DTSTART;TZID=Europe/Paris:20250806T190000
DTEND;TZID=Europe/Paris:20250806T210000
DTSTAMP:20260420T065424
CREATED:20250714T130043Z
LAST-MODIFIED:20250804T111929Z
UID:2357-1754506800-1754514000@tschannlibraire.fr
SUMMARY:Tang Loaëc\, Anya\, fille d'Ukraine
DESCRIPTION:Tschann Libraire et les Éditions Passiflore vous invitent à une rencontre avec Tang Loaëc\, à l’occasion de la parution de son nouveau roman Anya\, fille d’Ukraine. L’auteur s’entretiendra avec Hugues Pernet\, premier ambassadeur de France à Kiev. \n\n\n\nAnya a onze ans. Très grièvement blessée par un obus tombé sur une rue de Kiev\, elle oscille entre la vie et la mort sur son lit d’hôpital.Son esprit inconscient erre des membres de sa famille aux êtres qui ont croisé sa route\, d’une région d’Ukraine ou de Russie à l’autre. Des hommes et des femmes ordinaires dont la guerre a bouleversé l’existence.Privée de son père\, comme tant d’autres sur le front\, elle deviendra un symbole du combat pour faire libérer tous les prisonniers\, civils et militaires. \n\n\n\n\n\n\n\n\n\n\n\nLieu\n\n\n\n\n\n\n\n\n\n\n\n\nCarton d’invitation
URL:https://tschannlibraire.fr/evenement/tang-loaec-anya-fille-dukraine/
LOCATION:Tschann Libraire\, 125 boulevard du Montparnasse\, Paris\, 75006
CATEGORIES:Dans les murs
ATTACH;FMTTYPE=image/jpeg:https://tschannlibraire.fr/wp-content/uploads/2025/07/9782379461330_1_75.jpg
END:VEVENT
END:VCALENDAR