BEGIN:VCALENDAR
VERSION:2.0
PRODID:-//Tschann Libraire - ECPv6.15.20//NONSGML v1.0//EN
CALSCALE:GREGORIAN
METHOD:PUBLISH
X-WR-CALNAME:Tschann Libraire
X-ORIGINAL-URL:https://tschannlibraire.fr
X-WR-CALDESC:Évènements pour Tschann Libraire
REFRESH-INTERVAL;VALUE=DURATION:PT1H
X-Robots-Tag:noindex
X-PUBLISHED-TTL:PT1H
BEGIN:VTIMEZONE
TZID:Europe/Paris
BEGIN:DAYLIGHT
TZOFFSETFROM:+0100
TZOFFSETTO:+0200
TZNAME:CEST
DTSTART:20240331T010000
END:DAYLIGHT
BEGIN:STANDARD
TZOFFSETFROM:+0200
TZOFFSETTO:+0100
TZNAME:CET
DTSTART:20241027T010000
END:STANDARD
BEGIN:DAYLIGHT
TZOFFSETFROM:+0100
TZOFFSETTO:+0200
TZNAME:CEST
DTSTART:20250330T010000
END:DAYLIGHT
BEGIN:STANDARD
TZOFFSETFROM:+0200
TZOFFSETTO:+0100
TZNAME:CET
DTSTART:20251026T010000
END:STANDARD
BEGIN:DAYLIGHT
TZOFFSETFROM:+0100
TZOFFSETTO:+0200
TZNAME:CEST
DTSTART:20260329T010000
END:DAYLIGHT
BEGIN:STANDARD
TZOFFSETFROM:+0200
TZOFFSETTO:+0100
TZNAME:CET
DTSTART:20261025T010000
END:STANDARD
END:VTIMEZONE
BEGIN:VEVENT
DTSTART;TZID=Europe/Paris:20251001T193000
DTEND;TZID=Europe/Paris:20251001T220000
DTSTAMP:20260420T032644
CREATED:20250925T171039Z
LAST-MODIFIED:20251026T144653Z
UID:2566-1759347000-1759356000@tschannlibraire.fr
SUMMARY:Martin Quenehen et Bastien Vivès\, Corto Maltese : Le Jour d'avant
DESCRIPTION:Tschann Libraire et les éditions Casterman vous invitent à une rencontre-dédicace avec Martin Quenehen et Bastien Vivès à l’occasion de la parution exclusive du dernier album de Corto Maltese : Le Jour d’avant. \nDe passage à Sydney en 2022\, Corto tente d’aider Marcus\, un ami pirate alors en pleine addiction narcotique. Et quoi de mieux pour le sortir de ce marasme qu’une nouvelle aventure ? Celle-ci leur est proposée par l’avocate d’un groupe d’eco-warriors dont l’une des membres a été arrêtée dans les îles Tuvalu\, en plein océan Pacifique. D’origine chinoise\, elle risque d’être remise aux autorités de son pays et a soufflé à son avocate le nom de Corto Maltese\, comme son ultime chance de liberté… Avec Marcus aux commandes d’un hydravion en sale état\, Corto et sa commanditaire s’envolent pour ces îles\, premières victimes du déréglement climatique qui provoque la montée du niveau des mers.
URL:https://tschannlibraire.fr/evenement/martin-quenehen-et-bastien-vives-corto-maltese-le-jour-davant/
LOCATION:Tschann Libraire\, 125 boulevard du Montparnasse\, Paris\, 75006
CATEGORIES:Dans les murs
ATTACH;FMTTYPE=image/jpeg:https://tschannlibraire.fr/wp-content/uploads/2025/09/9782203295469_1_75.jpg
END:VEVENT
END:VCALENDAR