BEGIN:VCALENDAR
VERSION:2.0
PRODID:-//Tschann Libraire - ECPv6.15.20//NONSGML v1.0//EN
CALSCALE:GREGORIAN
METHOD:PUBLISH
X-ORIGINAL-URL:https://tschannlibraire.fr
X-WR-CALDESC:Évènements pour Tschann Libraire
REFRESH-INTERVAL;VALUE=DURATION:PT1H
X-Robots-Tag:noindex
X-PUBLISHED-TTL:PT1H
BEGIN:VTIMEZONE
TZID:Europe/Paris
BEGIN:DAYLIGHT
TZOFFSETFROM:+0100
TZOFFSETTO:+0200
TZNAME:CEST
DTSTART:20240331T010000
END:DAYLIGHT
BEGIN:STANDARD
TZOFFSETFROM:+0200
TZOFFSETTO:+0100
TZNAME:CET
DTSTART:20241027T010000
END:STANDARD
BEGIN:DAYLIGHT
TZOFFSETFROM:+0100
TZOFFSETTO:+0200
TZNAME:CEST
DTSTART:20250330T010000
END:DAYLIGHT
BEGIN:STANDARD
TZOFFSETFROM:+0200
TZOFFSETTO:+0100
TZNAME:CET
DTSTART:20251026T010000
END:STANDARD
BEGIN:DAYLIGHT
TZOFFSETFROM:+0100
TZOFFSETTO:+0200
TZNAME:CEST
DTSTART:20260329T010000
END:DAYLIGHT
BEGIN:STANDARD
TZOFFSETFROM:+0200
TZOFFSETTO:+0100
TZNAME:CET
DTSTART:20261025T010000
END:STANDARD
END:VTIMEZONE
BEGIN:VEVENT
DTSTART;TZID=Europe/Paris:20251003T193000
DTEND;TZID=Europe/Paris:20251003T220000
DTSTAMP:20260420T050746
CREATED:20250925T170921Z
LAST-MODIFIED:20251026T144056Z
UID:2576-1759519800-1759528800@tschannlibraire.fr
SUMMARY:Claude Favre\, Membres fantômes / Temps mêlés et Juliette Manel\, Pizzica
DESCRIPTION:Tschann Libraire et les éditions Lanskine vous invitent à une rencontre avec Claude Favre\, autour de son/ses livre/s Membres fantômes / Temps mêlés. La poétesse et performeuse discutera avec Juliette Manel\, poétesse elle aussi et autrice du livre Pizzica\, paru en mai chez Lanskine. \nCe livre regroupe deux textes de Claude Favre « Membres fantômes » suivi de « Temps mêlés »\, stylistiquement différents mais qui cherchent à créer des espaces pour les oubliés\, les malmenés\, tout en ne parlant pas à leur place\, leur laissant un lieu-lien-tissu-texte\, imparfait. Les « membres fantômes »\, même après leur disparition\, continuent d’être douloureux\, ils hantent. « Temps mêlés »\, pour ne pas oublier quoi que ce soit du monde\, comment dire sinon qu’à recommencer\, tenter de dire mieux\, dire plus précis en faisant autre chose\, dire qui clouerait le bec à ceux qui oublient\, comment écrire sinon procéder par des tentatives d’approches toujours remises en question. Traversant les époques\, chacun des textes de Claude est un possible texte\, auquel le texte suivant fait écho\, parfois prolonge\, contrarie\, violente\, un texte qui tente\, n’affirme rien. Parce que se pose la question éthique du comment écrire et dire le mal que l’homme fait à l’homme.
URL:https://tschannlibraire.fr/evenement/claude-favre-membres-fantomes-temps-meles/
LOCATION:Tschann Libraire\, 125 boulevard du Montparnasse\, Paris\, 75006
CATEGORIES:Dans les murs
ATTACH;FMTTYPE=image/jpeg:https://tschannlibraire.fr/wp-content/uploads/2025/09/9782359631548_1_75.jpg
END:VEVENT
END:VCALENDAR