BEGIN:VCALENDAR
VERSION:2.0
PRODID:-//Tschann Libraire - ECPv6.15.20//NONSGML v1.0//EN
CALSCALE:GREGORIAN
METHOD:PUBLISH
X-WR-CALNAME:Tschann Libraire
X-ORIGINAL-URL:https://tschannlibraire.fr
X-WR-CALDESC:Évènements pour Tschann Libraire
REFRESH-INTERVAL;VALUE=DURATION:PT1H
X-Robots-Tag:noindex
X-PUBLISHED-TTL:PT1H
BEGIN:VTIMEZONE
TZID:Europe/Paris
BEGIN:DAYLIGHT
TZOFFSETFROM:+0100
TZOFFSETTO:+0200
TZNAME:CEST
DTSTART:20240331T010000
END:DAYLIGHT
BEGIN:STANDARD
TZOFFSETFROM:+0200
TZOFFSETTO:+0100
TZNAME:CET
DTSTART:20241027T010000
END:STANDARD
BEGIN:DAYLIGHT
TZOFFSETFROM:+0100
TZOFFSETTO:+0200
TZNAME:CEST
DTSTART:20250330T010000
END:DAYLIGHT
BEGIN:STANDARD
TZOFFSETFROM:+0200
TZOFFSETTO:+0100
TZNAME:CET
DTSTART:20251026T010000
END:STANDARD
BEGIN:DAYLIGHT
TZOFFSETFROM:+0100
TZOFFSETTO:+0200
TZNAME:CEST
DTSTART:20260329T010000
END:DAYLIGHT
BEGIN:STANDARD
TZOFFSETFROM:+0200
TZOFFSETTO:+0100
TZNAME:CET
DTSTART:20261025T010000
END:STANDARD
END:VTIMEZONE
BEGIN:VEVENT
DTSTART;TZID=Europe/Paris:20251005T110000
DTEND;TZID=Europe/Paris:20251005T130000
DTSTAMP:20260420T032644
CREATED:20250925T170838Z
LAST-MODIFIED:20251026T144030Z
UID:2586-1759662000-1759669200@tschannlibraire.fr
SUMMARY:Nurith Aviv\, Filmer la parole
DESCRIPTION:Tschann Libraire et les Éditions Exils vous invitent à une rencontre avec la cinéaste Nurith Aviv autour de son livre Filmer la parole. Elle discutera avec Nathalie Georges-Lambrichs\, psychanalyste.En mémoire de Philippe Thureau-Dangin\, éditeur de ce livre\, disparu le 12 septembre. \nPremière femme directrice de la photo en France\, Nurith Aviv a travaillé auprès de nombreux réalisateurs\, René Allio\, Agnès Varda\, Amos Gitaï\, Jacques Doillon\, entre autres. Depuis plus de vingt ans\, elle réalise des documentaires personnels autour des questions du langage\, de la traduction\, de la mémoires des mots et des langues.Pour chacun des 13 documentaires que la cinéaste a réalisés\, le volume rassemble des extraits des films\, des documents et photos\, des entretiens avec la cinéaste\, ainsi que de nombreux commentaires et interprétations offerts par des écrivains\, philosophes\, psychanalystes\, notamment Hélène Cixous\, Hervé Le Tellier\, Tiphaine Samoyault\, Éric Laurent\, Aharon Appelfeld\, Marianne Dautrey\, Julia Kristeva\, Philippe Lacoue-Labarthe\, Abdelwahab Meddeb\, etc.
URL:https://tschannlibraire.fr/evenement/nurith-aviv-filmer-la-parole/
LOCATION:Tschann Libraire\, 125 boulevard du Montparnasse\, Paris\, 75006
CATEGORIES:Dans les murs
ATTACH;FMTTYPE=image/png:https://tschannlibraire.fr/wp-content/uploads/2025/09/image.png
END:VEVENT
BEGIN:VEVENT
DTSTART;TZID=Europe/Paris:20251005T150000
DTEND;TZID=Europe/Paris:20251005T173000
DTSTAMP:20260420T032644
CREATED:20250925T170740Z
LAST-MODIFIED:20251026T144019Z
UID:2589-1759676400-1759685400@tschannlibraire.fr
SUMMARY:Marie-Jeanne Guedj Bourdiau\, Hikikomori : Réparer l'isolement
DESCRIPTION:Tschann Libraire et les éditions Doin vous invitent à une rencontre avec Marie-Jeanne Guedj Bourdiau\, à l’occasion de la parution du livre Hikikomori. Réparer l’isolement. L’autrice discutera avec Maïa Fansten\, sociologue. \n\n\n\nPrésentation de cette forme de retrait social en progression chez les adolescents et les jeunes adultes\, qui consiste en une claustration à domicile accompagnée d’une rupture des relations sociales physiques et réelles. L’auteure donne les clés pour évaluer ce comportement\, qui n’est pas une pathologie mais qui nécessite un accompagnement lorsqu’il devient sévère ou qu’il est assorti de troubles.
URL:https://tschannlibraire.fr/evenement/guedj-bourdiau-hikikomori/
LOCATION:Tschann Libraire\, 125 boulevard du Montparnasse\, Paris\, 75006
CATEGORIES:Dans les murs
ATTACH;FMTTYPE=image/jpeg:https://tschannlibraire.fr/wp-content/uploads/2025/09/b8a07c53f0abb8b54f6c97236c4fe6b3e660aeb887e96bcb12557275a60e8f9e.jpg
END:VEVENT
END:VCALENDAR