BEGIN:VCALENDAR
VERSION:2.0
PRODID:-//Tschann Libraire - ECPv6.15.20//NONSGML v1.0//EN
CALSCALE:GREGORIAN
METHOD:PUBLISH
X-WR-CALNAME:Tschann Libraire
X-ORIGINAL-URL:https://tschannlibraire.fr
X-WR-CALDESC:Évènements pour Tschann Libraire
REFRESH-INTERVAL;VALUE=DURATION:PT1H
X-Robots-Tag:noindex
X-PUBLISHED-TTL:PT1H
BEGIN:VTIMEZONE
TZID:Europe/Paris
BEGIN:DAYLIGHT
TZOFFSETFROM:+0100
TZOFFSETTO:+0200
TZNAME:CEST
DTSTART:20240331T010000
END:DAYLIGHT
BEGIN:STANDARD
TZOFFSETFROM:+0200
TZOFFSETTO:+0100
TZNAME:CET
DTSTART:20241027T010000
END:STANDARD
BEGIN:DAYLIGHT
TZOFFSETFROM:+0100
TZOFFSETTO:+0200
TZNAME:CEST
DTSTART:20250330T010000
END:DAYLIGHT
BEGIN:STANDARD
TZOFFSETFROM:+0200
TZOFFSETTO:+0100
TZNAME:CET
DTSTART:20251026T010000
END:STANDARD
BEGIN:DAYLIGHT
TZOFFSETFROM:+0100
TZOFFSETTO:+0200
TZNAME:CEST
DTSTART:20260329T010000
END:DAYLIGHT
BEGIN:STANDARD
TZOFFSETFROM:+0200
TZOFFSETTO:+0100
TZNAME:CET
DTSTART:20261025T010000
END:STANDARD
END:VTIMEZONE
BEGIN:VEVENT
DTSTART;TZID=Europe/Paris:20251009T200000
DTEND;TZID=Europe/Paris:20251009T220000
DTSTAMP:20260420T032810
CREATED:20251004T132046Z
LAST-MODIFIED:20251026T144010Z
UID:2606-1760040000-1760047200@tschannlibraire.fr
SUMMARY:Gennie et Paul Lemoine\, Le Psychodrame
DESCRIPTION:Tschann Libraire et les Éditions des Alentours vous invitent à une rencontre autour du livre Le Psychodrame de Gennie et Paul Lemoine. La discussion questionnera la notion de psychodrame aujourd’hui. \n\n\n\nQu’est-ce que le psychodrame ? Avant tout\, un moyen de rétablir cette communication\, si difficile\, dont nous avons tous besoin. Chacun\, devant le regard des autres\, joue un personnage – lui-même ou un autre – dans une situation qui a été ressentie comme douloureuse ou traumatisante.Tout peut être mimé\, revécu dans ce jeu psychodramatique où le partenaire de l’instant s’identifie aussi complètement que possible au personnage qu’il incarne. Tous les jeux de miroir y interviennent : se voir dans le visage de l’autre\, voir l’autre dans le visage d’un tiers\, etc. Le psychodrame est une expérience libératrice de l’agressivité\, des tensions\, des angoisses\, des « faux rapports » où le sujet surprend ses propres réactions avant même de les comprendre ou de les analyser et bénéficie pour ce faire du soutien de tout un groupe.Cette réédition d’un ouvrage classique nous propose une théorie d’une exceptionnelle clarté. Il n’intéressera pas que les professionnels : chacun y trouvera un sujet de réflexion sur ses rapports avec les autres et avec lui-même et découvrira une thérapeutique parfaitement adaptée à notre monde ouvert au collectif.
URL:https://tschannlibraire.fr/evenement/gennie-et-paul-lemoine-le-psychodrame/
LOCATION:Tschann Libraire\, 125 boulevard du Montparnasse\, Paris\, 75006
CATEGORIES:Dans les murs
ATTACH;FMTTYPE=image/jpeg:https://tschannlibraire.fr/wp-content/uploads/2025/10/9791095353126_1_75.jpg
END:VEVENT
END:VCALENDAR