BEGIN:VCALENDAR
VERSION:2.0
PRODID:-//Tschann Libraire - ECPv6.15.20//NONSGML v1.0//EN
CALSCALE:GREGORIAN
METHOD:PUBLISH
X-WR-CALNAME:Tschann Libraire
X-ORIGINAL-URL:https://tschannlibraire.fr
X-WR-CALDESC:Évènements pour Tschann Libraire
REFRESH-INTERVAL;VALUE=DURATION:PT1H
X-Robots-Tag:noindex
X-PUBLISHED-TTL:PT1H
BEGIN:VTIMEZONE
TZID:Europe/Paris
BEGIN:DAYLIGHT
TZOFFSETFROM:+0100
TZOFFSETTO:+0200
TZNAME:CEST
DTSTART:20240331T010000
END:DAYLIGHT
BEGIN:STANDARD
TZOFFSETFROM:+0200
TZOFFSETTO:+0100
TZNAME:CET
DTSTART:20241027T010000
END:STANDARD
BEGIN:DAYLIGHT
TZOFFSETFROM:+0100
TZOFFSETTO:+0200
TZNAME:CEST
DTSTART:20250330T010000
END:DAYLIGHT
BEGIN:STANDARD
TZOFFSETFROM:+0200
TZOFFSETTO:+0100
TZNAME:CET
DTSTART:20251026T010000
END:STANDARD
BEGIN:DAYLIGHT
TZOFFSETFROM:+0100
TZOFFSETTO:+0200
TZNAME:CEST
DTSTART:20260329T010000
END:DAYLIGHT
BEGIN:STANDARD
TZOFFSETFROM:+0200
TZOFFSETTO:+0100
TZNAME:CET
DTSTART:20261025T010000
END:STANDARD
END:VTIMEZONE
BEGIN:VEVENT
DTSTART;TZID=Europe/Paris:20251012T103000
DTEND;TZID=Europe/Paris:20251012T130000
DTSTAMP:20260420T032748
CREATED:20251004T131701Z
LAST-MODIFIED:20251026T114501Z
UID:2625-1760265000-1760274000@tschannlibraire.fr
SUMMARY:Revue K : "Poètes en voyage"
DESCRIPTION:Tschann Libraire et les éditions Revue K vous invitent à une rencontre avec Radek Fridrich et Jan Sojka\, venus à Paris spécialement pour l’événement\, autour de leurs recueils de poésie traduits du tchèque par Erika Abrams. \nLa lecture sera accompagnée d’une mise en voix de Marion Bonassies et Charlotte Macé ainsi que d’une exposition de dessins et peintures d’auteurs proches. Roman Kames\, directeur des Éditions vous présentera les tirages de tête de la maison.
URL:https://tschannlibraire.fr/evenement/revue-k-poetes-en-voyage/
LOCATION:Tschann Libraire\, 125 boulevard du Montparnasse\, Paris\, 75006
CATEGORIES:Dans les murs
ATTACH;FMTTYPE=image/jpeg:https://tschannlibraire.fr/wp-content/uploads/2025/10/0-1-a-Perte-de-sens-couve.jpeg
END:VEVENT
BEGIN:VEVENT
DTSTART;TZID=Europe/Paris:20251012T110000
DTEND;TZID=Europe/Paris:20251012T130000
DTSTAMP:20260420T032748
CREATED:20251004T131616Z
LAST-MODIFIED:20251026T142939Z
UID:2619-1760266800-1760274000@tschannlibraire.fr
SUMMARY:Revue PSYCHANALYSE YETU n°55 & 56
DESCRIPTION:Tschann Libraire et les éditions Érès vous invitent à une rencontre autour des deux derniers numéros de la revue PSYCHANALYSE YETU. Quand le numéro 55 propose de considérer le voile et la rature comme des « concepts fondamentaux » de la psychanalyse\, le numéro 56 explore la question du(es) poème(s).
URL:https://tschannlibraire.fr/evenement/revue-psychanalyse-yetu-n55-56/
LOCATION:Tschann Libraire Jeunesse\, 125 boulevard du Montparnasse\, Paris\, 75006
CATEGORIES:Dans les murs
ATTACH;FMTTYPE=image/jpeg:https://tschannlibraire.fr/wp-content/uploads/2025/10/9782749283968_1_75.jpg
END:VEVENT
BEGIN:VEVENT
DTSTART;TZID=Europe/Paris:20251012T150000
DTEND;TZID=Europe/Paris:20251012T170000
DTSTAMP:20260420T032748
CREATED:20251004T131426Z
LAST-MODIFIED:20251026T142924Z
UID:2614-1760281200-1760288400@tschannlibraire.fr
SUMMARY:Véronique Sidoit\, Les Khmers rouges\, un langage de tuerie
DESCRIPTION:Tschann Libraire et les éditions de l’Insu vous invitent à une rencontre avec Véronique Sidoit\, à l’occasion de la parution de son livre Les Khmers rouges\, un langage de tuerie. \n\n\n\nCe livre sur le régime Khmer rouge sort au moment même de la commémoration des 50 ans de la prise de pouvoir des Khmers rouges et de la terreur que ce régime a fait subir aux Cambodgiens pendant presque quatre ans.Entre le 17 avril 1975 et le 7 janvier 1979\, les Khmers rouges dirigent le Cambodge sous le nom de Kampuchea démocratique et déciment le quart de la population du pays. Pour démontrer la singularité de ce génocide\, Véronique Sidoit s’emploie à déplier la construction de la terreur\, à aborder leur politique de déshumanisation et de désubjectivation en s’attachant particulièrement à ce qui constitue l’humain : le langage. Son atteinte met à mal les capacités de subjectivation et vise à la destruction de tous les repères symboliques et institutionnels du pays.À cette destruction a fait suite son effacement\, une véritable omerta a opéré sapant toute possibilité de « devoir de mémoire ». Un lent travail d’une mémoire subjectivée a été entrepris grâce aux effets des procès ; l’auteure ne lâche pas ce fil du réel\, ce réel dont le silence est le nom. Entre effacement et mémoire\, Véronique Sidoit souligne combien cette paranoïa de masse est le surgissement d’un « réel sans loi et sans ordre ».Le Cambodge en paye encore aujourd’hui le prix. Le réel est le lit du Discours capitaliste avance-t-elle dans la dernière partie de ce livre\, en dépliant dans une analyse structurelle ce qu’est le discours selon Lacan et sans jamais oblitérer la jouissance\, « les noces du capitalisme avec le réel ».Cet ouvrage est d’une grande richesse psychanalytique mais aussi sociopolitique\, et résonne avec les discours totalitaires qui fleurissent à notre époque\, dans un monde où le capitalisme fait loi et où les génocides continuent de se perpétrer. Sa lecture en fait un éclairage et une mise en garde des discours actuels.
URL:https://tschannlibraire.fr/evenement/veronique-sidoit-les-khmers-rouges-un-langage-de-tuerie/
LOCATION:Tschann Libraire\, 125 boulevard du Montparnasse\, Paris\, 75006
CATEGORIES:Dans les murs
ATTACH;FMTTYPE=image/png:https://tschannlibraire.fr/wp-content/uploads/2025/10/image.png
END:VEVENT
END:VCALENDAR