BEGIN:VCALENDAR
VERSION:2.0
PRODID:-//Tschann Libraire - ECPv6.15.20//NONSGML v1.0//EN
CALSCALE:GREGORIAN
METHOD:PUBLISH
X-WR-CALNAME:Tschann Libraire
X-ORIGINAL-URL:https://tschannlibraire.fr
X-WR-CALDESC:Évènements pour Tschann Libraire
REFRESH-INTERVAL;VALUE=DURATION:PT1H
X-Robots-Tag:noindex
X-PUBLISHED-TTL:PT1H
BEGIN:VTIMEZONE
TZID:Europe/Paris
BEGIN:DAYLIGHT
TZOFFSETFROM:+0100
TZOFFSETTO:+0200
TZNAME:CEST
DTSTART:20240331T010000
END:DAYLIGHT
BEGIN:STANDARD
TZOFFSETFROM:+0200
TZOFFSETTO:+0100
TZNAME:CET
DTSTART:20241027T010000
END:STANDARD
BEGIN:DAYLIGHT
TZOFFSETFROM:+0100
TZOFFSETTO:+0200
TZNAME:CEST
DTSTART:20250330T010000
END:DAYLIGHT
BEGIN:STANDARD
TZOFFSETFROM:+0200
TZOFFSETTO:+0100
TZNAME:CET
DTSTART:20251026T010000
END:STANDARD
BEGIN:DAYLIGHT
TZOFFSETFROM:+0100
TZOFFSETTO:+0200
TZNAME:CEST
DTSTART:20260329T010000
END:DAYLIGHT
BEGIN:STANDARD
TZOFFSETFROM:+0200
TZOFFSETTO:+0100
TZNAME:CET
DTSTART:20261025T010000
END:STANDARD
END:VTIMEZONE
BEGIN:VEVENT
DTSTART;TZID=Europe/Paris:20251016T200000
DTEND;TZID=Europe/Paris:20251016T220000
DTSTAMP:20260420T032750
CREATED:20251011T160837Z
LAST-MODIFIED:20251026T142322Z
UID:2657-1760644800-1760652000@tschannlibraire.fr
SUMMARY:Alejandro Dagfal (dir.)\, À l'École de Jacques Lacan
DESCRIPTION:Tschann Libraire et les éditions Stilus vous invitent à une rencontre avec les contributeurs de l’ouvrage collectif À l’École de Jacques Lacan : expériences et héritages (1964-1988). \nCe livre d’entretiens offre les témoignages de onze personnes qui\, alors âgées d’une vingtaine d’années\, sont arrivées à l’École freudienne de Paris à un moment où Jacques Lacan\, son fondateur\, était déjà une célébrité. Entre la fin des années 1960 et le début des années 1970\, ces jeunes se sont lancés dans une aventure qui\, d’après leur récit\, allait changer leur vie. Certains sont devenus psychanalystes – voire chefs d’école -\, et d’autres\, des intellectuels très reconnus. Deux d’entre eux ont fait une analyse chez Lacan\, deux ont été « en contrôle » avec lui\, et deux\, enfin\, ont même traversé l’expérience de « la passe ».Tous ont fourni des témoignages précieux sur les multiples expériences qu’ils ont pu faire dans un monde qui leur semblait aussi nouveau que fascinant.
URL:https://tschannlibraire.fr/evenement/alejandro-dagfal-dir-a-lecole-de-jacques-lacan/
LOCATION:Tschann Libraire\, 125 boulevard du Montparnasse\, Paris\, 75006
CATEGORIES:Dans les murs
ATTACH;FMTTYPE=image/jpeg:https://tschannlibraire.fr/wp-content/uploads/2025/10/9791095543657_1_75.jpg
END:VEVENT
END:VCALENDAR