BEGIN:VCALENDAR
VERSION:2.0
PRODID:-//Tschann Libraire - ECPv6.15.20//NONSGML v1.0//EN
CALSCALE:GREGORIAN
METHOD:PUBLISH
X-ORIGINAL-URL:https://tschannlibraire.fr
X-WR-CALDESC:Évènements pour Tschann Libraire
REFRESH-INTERVAL;VALUE=DURATION:PT1H
X-Robots-Tag:noindex
X-PUBLISHED-TTL:PT1H
BEGIN:VTIMEZONE
TZID:Europe/Paris
BEGIN:DAYLIGHT
TZOFFSETFROM:+0100
TZOFFSETTO:+0200
TZNAME:CEST
DTSTART:20240331T010000
END:DAYLIGHT
BEGIN:STANDARD
TZOFFSETFROM:+0200
TZOFFSETTO:+0100
TZNAME:CET
DTSTART:20241027T010000
END:STANDARD
BEGIN:DAYLIGHT
TZOFFSETFROM:+0100
TZOFFSETTO:+0200
TZNAME:CEST
DTSTART:20250330T010000
END:DAYLIGHT
BEGIN:STANDARD
TZOFFSETFROM:+0200
TZOFFSETTO:+0100
TZNAME:CET
DTSTART:20251026T010000
END:STANDARD
BEGIN:DAYLIGHT
TZOFFSETFROM:+0100
TZOFFSETTO:+0200
TZNAME:CEST
DTSTART:20260329T010000
END:DAYLIGHT
BEGIN:STANDARD
TZOFFSETFROM:+0200
TZOFFSETTO:+0100
TZNAME:CET
DTSTART:20261025T010000
END:STANDARD
END:VTIMEZONE
BEGIN:VEVENT
DTSTART;TZID=Europe/Paris:20251119T183000
DTEND;TZID=Europe/Paris:20251119T210000
DTSTAMP:20260420T015932
CREATED:20251117T212533Z
LAST-MODIFIED:20251117T212533Z
UID:2848-1763577000-1763586000@tschannlibraire.fr
SUMMARY:Christian Sautter
DESCRIPTION:Tschann Libraire et les éditions Descartes et Cie vous invitent à une rencontre avec Christian Sautter\, pour son ouvrage Voir loin\, agir proche : lettres à nos amis 1001-1100. Il débattra avec Hervé Le Bras\, démographe et historien et Marc Guillaume\, économiste et éditeur. \nAprès les mille lettres publiées dans Lettres à nos amis : voir loin\, agir proche\, l’économiste et homme d’Etat Christian Sautter analyse les événements économiques\, politiques ainsi que culturels de 2023 et 2024 en se fondant sur ses compétences et sur ses diverses expériences professionnelles.
URL:https://tschannlibraire.fr/evenement/christian-sautter/
LOCATION:Tschann Libraire\, 125 boulevard du Montparnasse\, Paris\, 75006
CATEGORIES:Dans les murs
ATTACH;FMTTYPE=image/jpeg:https://tschannlibraire.fr/wp-content/uploads/2025/11/SAUTTER-e1763063823425.jpg
END:VEVENT
END:VCALENDAR