BEGIN:VCALENDAR
VERSION:2.0
PRODID:-//Tschann Libraire - ECPv6.15.20//NONSGML v1.0//EN
CALSCALE:GREGORIAN
METHOD:PUBLISH
X-ORIGINAL-URL:https://tschannlibraire.fr
X-WR-CALDESC:Évènements pour Tschann Libraire
REFRESH-INTERVAL;VALUE=DURATION:PT1H
X-Robots-Tag:noindex
X-PUBLISHED-TTL:PT1H
BEGIN:VTIMEZONE
TZID:Europe/Paris
BEGIN:DAYLIGHT
TZOFFSETFROM:+0100
TZOFFSETTO:+0200
TZNAME:CEST
DTSTART:20240331T010000
END:DAYLIGHT
BEGIN:STANDARD
TZOFFSETFROM:+0200
TZOFFSETTO:+0100
TZNAME:CET
DTSTART:20241027T010000
END:STANDARD
BEGIN:DAYLIGHT
TZOFFSETFROM:+0100
TZOFFSETTO:+0200
TZNAME:CEST
DTSTART:20250330T010000
END:DAYLIGHT
BEGIN:STANDARD
TZOFFSETFROM:+0200
TZOFFSETTO:+0100
TZNAME:CET
DTSTART:20251026T010000
END:STANDARD
BEGIN:DAYLIGHT
TZOFFSETFROM:+0100
TZOFFSETTO:+0200
TZNAME:CEST
DTSTART:20260329T010000
END:DAYLIGHT
BEGIN:STANDARD
TZOFFSETFROM:+0200
TZOFFSETTO:+0100
TZNAME:CET
DTSTART:20261025T010000
END:STANDARD
END:VTIMEZONE
BEGIN:VEVENT
DTSTART;TZID=Europe/Paris:20251126T193000
DTEND;TZID=Europe/Paris:20251126T220000
DTSTAMP:20260420T020024
CREATED:20251122T220604Z
LAST-MODIFIED:20251122T222201Z
UID:2795-1764185400-1764194400@tschannlibraire.fr
SUMMARY:Émilien Chesnot\, ZA
DESCRIPTION:Tschann Libraire et les éditions Théâtre Typographique vous invitent à une rencontre avec\nÉmilien Chesnot autour de son recueil ZA\nMuriel Leray – Jérôme Guitton pour leur recueil Les Traductions des Autres\, une redite\nSabine Macher\, autour de son recueil himmel und erde suivi de carnet d’a          suivi de … suivi de … Images Martin Poulain . Paul Aymé . Jo Trublard .
URL:https://tschannlibraire.fr/evenement/emilien-chesnot-za/
LOCATION:Tschann Libraire\, 125 boulevard du Montparnasse\, Paris\, 75006
CATEGORIES:Dans les murs
ATTACH;FMTTYPE=image/jpeg:https://tschannlibraire.fr/wp-content/uploads/2025/11/Tschann-4.jpg
END:VEVENT
END:VCALENDAR