BEGIN:VCALENDAR
VERSION:2.0
PRODID:-//Tschann Libraire - ECPv6.15.20//NONSGML v1.0//EN
CALSCALE:GREGORIAN
METHOD:PUBLISH
X-ORIGINAL-URL:https://tschannlibraire.fr
X-WR-CALDESC:Évènements pour Tschann Libraire
REFRESH-INTERVAL;VALUE=DURATION:PT1H
X-Robots-Tag:noindex
X-PUBLISHED-TTL:PT1H
BEGIN:VTIMEZONE
TZID:Europe/Paris
BEGIN:DAYLIGHT
TZOFFSETFROM:+0100
TZOFFSETTO:+0200
TZNAME:CEST
DTSTART:20240331T010000
END:DAYLIGHT
BEGIN:STANDARD
TZOFFSETFROM:+0200
TZOFFSETTO:+0100
TZNAME:CET
DTSTART:20241027T010000
END:STANDARD
BEGIN:DAYLIGHT
TZOFFSETFROM:+0100
TZOFFSETTO:+0200
TZNAME:CEST
DTSTART:20250330T010000
END:DAYLIGHT
BEGIN:STANDARD
TZOFFSETFROM:+0200
TZOFFSETTO:+0100
TZNAME:CET
DTSTART:20251026T010000
END:STANDARD
BEGIN:DAYLIGHT
TZOFFSETFROM:+0100
TZOFFSETTO:+0200
TZNAME:CEST
DTSTART:20260329T010000
END:DAYLIGHT
BEGIN:STANDARD
TZOFFSETFROM:+0200
TZOFFSETTO:+0100
TZNAME:CET
DTSTART:20261025T010000
END:STANDARD
END:VTIMEZONE
BEGIN:VEVENT
DTSTART;TZID=Europe/Paris:20251127T183000
DTEND;TZID=Europe/Paris:20251127T203000
DTSTAMP:20260420T020024
CREATED:20251122T220513Z
LAST-MODIFIED:20251122T222151Z
UID:2870-1764268200-1764275400@tschannlibraire.fr
SUMMARY:Marc Guillaume\, Le banquet de Tirésias
DESCRIPTION:Tschann Libraire et les éditions Descartes & Cie vous convient à la soirée de présentation du premier roman de Marc Guillaume\, Le banquet de Tirésias\, illustré par Marie Rauzy en compagnie de Melvil Poupaud\, le jeudi 27 novembre 2025. \nUn homme d’âge mûr persuadé d’être condamné par la maladie s’enivre à un banquet de mariage. Saoul\, il se dispute avec le marié et danse avec une amie dont il était autrefois très amoureux. A la suite de cette soirée\, sa santé se dégrade au rythme de rêves de plus en plus inquiétants.
URL:https://tschannlibraire.fr/evenement/marc-guillaume-le-banquet-de-tiresias/
LOCATION:Tschann Libraire\, 125 boulevard du Montparnasse\, Paris\, 75006
CATEGORIES:Dans les murs
ATTACH;FMTTYPE=image/jpeg:https://tschannlibraire.fr/wp-content/uploads/2025/11/2754bbd93ba4f22d51b3325e47812d2011f44dca6e48f823cad642ce23bb50ae.jpg
END:VEVENT
BEGIN:VEVENT
DTSTART;TZID=Europe/Paris:20251127T193000
DTEND;TZID=Europe/Paris:20251127T220000
DTSTAMP:20260420T020024
CREATED:20251122T220755Z
LAST-MODIFIED:20251123T211757Z
UID:2792-1764271800-1764280800@tschannlibraire.fr
SUMMARY:Elena Gouro\, Les Petits chameaux du ciel
DESCRIPTION:Tschann Libraire et les éditions Æncrages vous invitent à une rencontre avec Jean-Baptiste Para\, autour de sa traduction du recueil d’Elena Gouro\, poétesse futuriste russe\, intitulé Les Petits chameaux du ciel. \nVoix poétique originale et singulière du futurisme russe\, Elena Gouro est encore peu connue en France. Son art est ancré dans une expérience sensitive et émotionnelle de la nature\, à l´écart de l’univers urbain souvent ressenti comme hostile. De ses peintures et dessins\, de ses poèmes en prose ou en vers\, il ressort que sa relation intense avec le monde naturel a été une source constante d’inspiration. Sans doute pourrions-nous voir en elle une pionnière de l’éco-poétique. L’ouvrage présente une large sélection de poèmes en prose et en vers des Petits Chameaux du ciel\, le livre majeur d’Elena Gouro (1914) ainsi que plusieurs poèmes de l´almanach « Les Trois »\, mais aussi des extraits de son Journal\, fort peu connu en Russie même. On trouvera également le témoignage de Mikhaïl Matiouchine et une lettre écrite par Khlebnikov lorsque lui fut annoncée la mort d’Elena Gouro.
URL:https://tschannlibraire.fr/evenement/elena-gouro-les-petits-chameaux-du-ciel/
LOCATION:Tschann Libraire Jeunesse\, 125 boulevard du Montparnasse\, Paris\, 75006
CATEGORIES:Dans les murs
ATTACH;FMTTYPE=image/jpeg:https://tschannlibraire.fr/wp-content/uploads/2025/10/9782354391225_1_75.jpg
END:VEVENT
END:VCALENDAR