BEGIN:VCALENDAR
VERSION:2.0
PRODID:-//Tschann Libraire - ECPv6.15.20//NONSGML v1.0//EN
CALSCALE:GREGORIAN
METHOD:PUBLISH
X-ORIGINAL-URL:https://tschannlibraire.fr
X-WR-CALDESC:Évènements pour Tschann Libraire
REFRESH-INTERVAL;VALUE=DURATION:PT1H
X-Robots-Tag:noindex
X-PUBLISHED-TTL:PT1H
BEGIN:VTIMEZONE
TZID:Europe/Paris
BEGIN:DAYLIGHT
TZOFFSETFROM:+0100
TZOFFSETTO:+0200
TZNAME:CEST
DTSTART:20250330T010000
END:DAYLIGHT
BEGIN:STANDARD
TZOFFSETFROM:+0200
TZOFFSETTO:+0100
TZNAME:CET
DTSTART:20251026T010000
END:STANDARD
BEGIN:DAYLIGHT
TZOFFSETFROM:+0100
TZOFFSETTO:+0200
TZNAME:CEST
DTSTART:20260329T010000
END:DAYLIGHT
BEGIN:STANDARD
TZOFFSETFROM:+0200
TZOFFSETTO:+0100
TZNAME:CET
DTSTART:20261025T010000
END:STANDARD
BEGIN:DAYLIGHT
TZOFFSETFROM:+0100
TZOFFSETTO:+0200
TZNAME:CEST
DTSTART:20270328T010000
END:DAYLIGHT
BEGIN:STANDARD
TZOFFSETFROM:+0200
TZOFFSETTO:+0100
TZNAME:CET
DTSTART:20271031T010000
END:STANDARD
END:VTIMEZONE
BEGIN:VEVENT
DTSTART;TZID=Europe/Paris:20260309T200000
DTEND;TZID=Europe/Paris:20260309T220000
DTSTAMP:20260419T193450
CREATED:20260303T125402Z
LAST-MODIFIED:20260317T075609Z
UID:3017-1773086400-1773093600@tschannlibraire.fr
SUMMARY:Textes & Voix avec Marie-Hélène Lafon
DESCRIPTION:Chères amies et amis\, lectrices et lecteurs\, \nQuel plaisir de retrouver Marie-Hélène Lafon et Marie Christine Barrault\, toutes deux familières de Textes & voix\, depuis si longtemps ! \nMarie Hélène Lafon nous a habitué(e)s à son écriture incisive\, « à l’os » dit-elle\, et qui cependant réveille en nous des émotions enfouies\, avec l’omniprésence du territoire\, le Cantal de son enfance\, peuplé de personnages rugueux\, aux destins souvent plombés\, aux rêves échoués\, aux affections tourmentées. \nAvec Hors champ\, c’est à nouveau l’immersion dans la ferme familiale\, cinquante ans durant\, à travers l’histoire du petit frère\, celui qui ne partira pas\, celui dont l’avenir ne prendra jamais les couleurs vives de l’inconnu\, celui qui restera lié à la terre. Pieds et poings.\nC’est aussi l’extinction progressive et programmée d’une forme d’agriculture familiale\, où les hommes vivent avec les bêtes\, au rythme des saisons. \nMarie Christine Barrault nous en lira de larges extraits\, auxquels Marie-Hélène Lafon fera écho… Une lecture et une rencontre au milieu des livres\, dans le champ fertile de la librairie Tschann \nNadine Eghels\nLundi 9 mars 2026 à 20h à la librairie Tschann \nréservation nécessaire à contact@textes-et-voix.fr
URL:https://tschannlibraire.fr/evenement/textes-voix-avec-marie-helene-lafon/
LOCATION:Tschann Libraire\, 125 boulevard du Montparnasse\, Paris\, 75006
CATEGORIES:Dans les murs
ATTACH;FMTTYPE=image/png:https://tschannlibraire.fr/wp-content/uploads/2026/03/Lafon.png
END:VEVENT
END:VCALENDAR