BEGIN:VCALENDAR
VERSION:2.0
PRODID:-//Tschann Libraire - ECPv6.15.20//NONSGML v1.0//EN
CALSCALE:GREGORIAN
METHOD:PUBLISH
X-ORIGINAL-URL:https://tschannlibraire.fr
X-WR-CALDESC:Évènements pour Tschann Libraire
REFRESH-INTERVAL;VALUE=DURATION:PT1H
X-Robots-Tag:noindex
X-PUBLISHED-TTL:PT1H
BEGIN:VTIMEZONE
TZID:Europe/Paris
BEGIN:DAYLIGHT
TZOFFSETFROM:+0100
TZOFFSETTO:+0200
TZNAME:CEST
DTSTART:20250330T010000
END:DAYLIGHT
BEGIN:STANDARD
TZOFFSETFROM:+0200
TZOFFSETTO:+0100
TZNAME:CET
DTSTART:20251026T010000
END:STANDARD
BEGIN:DAYLIGHT
TZOFFSETFROM:+0100
TZOFFSETTO:+0200
TZNAME:CEST
DTSTART:20260329T010000
END:DAYLIGHT
BEGIN:STANDARD
TZOFFSETFROM:+0200
TZOFFSETTO:+0100
TZNAME:CET
DTSTART:20261025T010000
END:STANDARD
BEGIN:DAYLIGHT
TZOFFSETFROM:+0100
TZOFFSETTO:+0200
TZNAME:CEST
DTSTART:20270328T010000
END:DAYLIGHT
BEGIN:STANDARD
TZOFFSETFROM:+0200
TZOFFSETTO:+0100
TZNAME:CET
DTSTART:20271031T010000
END:STANDARD
END:VTIMEZONE
BEGIN:VEVENT
DTSTART;TZID=Europe/Paris:20260310T193000
DTEND;TZID=Europe/Paris:20260310T220000
DTSTAMP:20260419T194745
CREATED:20260303T153029Z
LAST-MODIFIED:20260317T075721Z
UID:3044-1773171000-1773180000@tschannlibraire.fr
SUMMARY:Sous le signe de l'hospitalité
DESCRIPTION:les Éditions de l’Aube et Tschann Libraire\,\nsous le signe de l’hospitalité urgente et universellement nécessaire\, vous convient \n\nMardi 10 mars 2026 à partir de 19h30\nen présence d’une anthropologue\, psychologue clinicienne et d’un écrivain\, journaliste et réalisateur pour un livre et un film \nMarie-Caroline Saglio-Yatzimirsky  et Cyril Montana nous accueilleront chez Tschann \nDialogue autour du livre de Marie-Caroline Saglio-Yatzimirsky\,  \n\nRASSEMBLEMENT FAMILIAL : bref récit d’une hospitalité française \nProjection de quelques extraits du film de Cyril Montana et Thomas Bornot \n\nWELCOME TO EUROPE : qui sont les vrais barbares\nhttps://cooperativedhr.fr/index.php/welcome-to-europe \nla soirée se terminera par une séance de dédicace et un verre de l’amitié
URL:https://tschannlibraire.fr/evenement/sous-le-signe-de-lhospitalite/
LOCATION:Tschann Libraire\, 125 boulevard du Montparnasse\, Paris\, 75006
CATEGORIES:Dans les murs
ATTACH;FMTTYPE=image/png:https://tschannlibraire.fr/wp-content/uploads/2026/03/saglio-groupe.png
END:VEVENT
END:VCALENDAR