BEGIN:VCALENDAR
VERSION:2.0
PRODID:-//Tschann Libraire - ECPv6.15.20//NONSGML v1.0//EN
CALSCALE:GREGORIAN
METHOD:PUBLISH
X-ORIGINAL-URL:https://tschannlibraire.fr
X-WR-CALDESC:Évènements pour Tschann Libraire
REFRESH-INTERVAL;VALUE=DURATION:PT1H
X-Robots-Tag:noindex
X-PUBLISHED-TTL:PT1H
BEGIN:VTIMEZONE
TZID:Europe/Paris
BEGIN:DAYLIGHT
TZOFFSETFROM:+0100
TZOFFSETTO:+0200
TZNAME:CEST
DTSTART:20250330T010000
END:DAYLIGHT
BEGIN:STANDARD
TZOFFSETFROM:+0200
TZOFFSETTO:+0100
TZNAME:CET
DTSTART:20251026T010000
END:STANDARD
BEGIN:DAYLIGHT
TZOFFSETFROM:+0100
TZOFFSETTO:+0200
TZNAME:CEST
DTSTART:20260329T010000
END:DAYLIGHT
BEGIN:STANDARD
TZOFFSETFROM:+0200
TZOFFSETTO:+0100
TZNAME:CET
DTSTART:20261025T010000
END:STANDARD
BEGIN:DAYLIGHT
TZOFFSETFROM:+0100
TZOFFSETTO:+0200
TZNAME:CEST
DTSTART:20270328T010000
END:DAYLIGHT
BEGIN:STANDARD
TZOFFSETFROM:+0200
TZOFFSETTO:+0100
TZNAME:CET
DTSTART:20271031T010000
END:STANDARD
END:VTIMEZONE
BEGIN:VEVENT
DTSTART;TZID=Europe/Paris:20260311T193000
DTEND;TZID=Europe/Paris:20260311T220000
DTSTAMP:20260419T194902
CREATED:20260303T125248Z
LAST-MODIFIED:20260317T075710Z
UID:3054-1773257400-1773266400@tschannlibraire.fr
SUMMARY:Lorsque nos enfants nous regarderont...
DESCRIPTION:Tschann Libraire et les éditions de l’Attente sont heureux d’accueillir \n \n\nEMMANUELLE HEIDSIECK\n \npour son nouveau roman\,  \n\nDepuis la nuit des temps \nle Mercredi 11 mars 2026 à 19h30 \nEmmanuelle Heidsieck dédicacera son livre\, son amie lectrice\, Laurence Cohen en lira quelques extraits
URL:https://tschannlibraire.fr/evenement/lorsque-nos-enfants-nous-regarderont/
LOCATION:Tschann Libraire\, 125 boulevard du Montparnasse\, Paris\, 75006
CATEGORIES:Dans les murs
ATTACH;FMTTYPE=image/webp:https://tschannlibraire.fr/wp-content/uploads/2026/03/3ba253c7ec3eb130d97405b4925e458dcfe2cd7599e7ce3b0c7751d10b0d0c69.webp
END:VEVENT
END:VCALENDAR