BEGIN:VCALENDAR
VERSION:2.0
PRODID:-//Tschann Libraire - ECPv6.15.20//NONSGML v1.0//EN
CALSCALE:GREGORIAN
METHOD:PUBLISH
X-ORIGINAL-URL:https://tschannlibraire.fr
X-WR-CALDESC:Évènements pour Tschann Libraire
REFRESH-INTERVAL;VALUE=DURATION:PT1H
X-Robots-Tag:noindex
X-PUBLISHED-TTL:PT1H
BEGIN:VTIMEZONE
TZID:Europe/Paris
BEGIN:DAYLIGHT
TZOFFSETFROM:+0100
TZOFFSETTO:+0200
TZNAME:CEST
DTSTART:20250330T010000
END:DAYLIGHT
BEGIN:STANDARD
TZOFFSETFROM:+0200
TZOFFSETTO:+0100
TZNAME:CET
DTSTART:20251026T010000
END:STANDARD
BEGIN:DAYLIGHT
TZOFFSETFROM:+0100
TZOFFSETTO:+0200
TZNAME:CEST
DTSTART:20260329T010000
END:DAYLIGHT
BEGIN:STANDARD
TZOFFSETFROM:+0200
TZOFFSETTO:+0100
TZNAME:CET
DTSTART:20261025T010000
END:STANDARD
BEGIN:DAYLIGHT
TZOFFSETFROM:+0100
TZOFFSETTO:+0200
TZNAME:CEST
DTSTART:20270328T010000
END:DAYLIGHT
BEGIN:STANDARD
TZOFFSETFROM:+0200
TZOFFSETTO:+0100
TZNAME:CET
DTSTART:20271031T010000
END:STANDARD
END:VTIMEZONE
BEGIN:VEVENT
DTSTART;TZID=Europe/Paris:20260315T163000
DTEND;TZID=Europe/Paris:20260315T190000
DTSTAMP:20260419T192632
CREATED:20260303T165729Z
LAST-MODIFIED:20260317T075537Z
UID:3068-1773592200-1773601200@tschannlibraire.fr
SUMMARY:Livres d'artistes avec les éditions Signum
DESCRIPTION:Rencontre d’un poète et d’un artiste.\nC’est de cette rencontre que naît le projet de réaliser un livre d’artiste ou de bibliophilie.\nCertains livres contiennent des œuvres originales\, souvent des inédits\, tirés à très peu d’exemplaires\, sur un beau-papier\, numérotés et signés par le poète et l’artiste.\nTschann et les éditions SIGNUM vous accueilleront le \n\nDIMANCHE 15 MARS 2026 DE 16H30 A 19H\npour partager les douces heures de fin d’automne avec artistes et poètes.
URL:https://tschannlibraire.fr/evenement/livres-dartistes-avec-les-editions-signum/
LOCATION:Tschann Libraire\, 125 boulevard du Montparnasse\, Paris\, 75006
CATEGORIES:Dans les murs
ATTACH;FMTTYPE=image/png:https://tschannlibraire.fr/wp-content/uploads/2026/03/logo-signum.png
END:VEVENT
END:VCALENDAR