BEGIN:VCALENDAR
VERSION:2.0
PRODID:-//Tschann Libraire - ECPv6.15.20//NONSGML v1.0//EN
CALSCALE:GREGORIAN
METHOD:PUBLISH
X-WR-CALNAME:Tschann Libraire
X-ORIGINAL-URL:https://tschannlibraire.fr
X-WR-CALDESC:Évènements pour Tschann Libraire
REFRESH-INTERVAL;VALUE=DURATION:PT1H
X-Robots-Tag:noindex
X-PUBLISHED-TTL:PT1H
BEGIN:VTIMEZONE
TZID:Europe/Paris
BEGIN:DAYLIGHT
TZOFFSETFROM:+0100
TZOFFSETTO:+0200
TZNAME:CEST
DTSTART:20250330T010000
END:DAYLIGHT
BEGIN:STANDARD
TZOFFSETFROM:+0200
TZOFFSETTO:+0100
TZNAME:CET
DTSTART:20251026T010000
END:STANDARD
BEGIN:DAYLIGHT
TZOFFSETFROM:+0100
TZOFFSETTO:+0200
TZNAME:CEST
DTSTART:20260329T010000
END:DAYLIGHT
BEGIN:STANDARD
TZOFFSETFROM:+0200
TZOFFSETTO:+0100
TZNAME:CET
DTSTART:20261025T010000
END:STANDARD
BEGIN:DAYLIGHT
TZOFFSETFROM:+0100
TZOFFSETTO:+0200
TZNAME:CEST
DTSTART:20270328T010000
END:DAYLIGHT
BEGIN:STANDARD
TZOFFSETFROM:+0200
TZOFFSETTO:+0100
TZNAME:CET
DTSTART:20271031T010000
END:STANDARD
END:VTIMEZONE
BEGIN:VEVENT
DTSTART;TZID=Europe/Paris:20260316T180000
DTEND;TZID=Europe/Paris:20260316T200000
DTSTAMP:20260419T194702
CREATED:20260303T125046Z
LAST-MODIFIED:20260317T075659Z
UID:3003-1773684000-1773691200@tschannlibraire.fr
SUMMARY:Une soirée avec Renaud...
DESCRIPTION:Soirée exceptionnelle le 16 mars 2026 de 18h à 20h. \nTschann et les éditions de La Martinière vous accueilleront autour de \n\nRENAUD\n\net en compagnie de LOLITA SÉCHAN et ERWAN L’ÉLÉOUET\, auteurs de \n\nRENAUD\, LE LIVRE\n\nSeul sera dédicacé le livre acheté dans la librairie\nRESERVATION NECESSAIRE AU 01 43 35 42 05
URL:https://tschannlibraire.fr/evenement/une-soiree-avec-renaud/
LOCATION:Tschann Libraire\, 125 boulevard du Montparnasse\, Paris\, 75006
CATEGORIES:Dans les murs
ATTACH;FMTTYPE=image/jpeg:https://tschannlibraire.fr/wp-content/uploads/2026/02/Visuel-Signature-Renaud-Tschann-Librairie-scaled.jpg
END:VEVENT
END:VCALENDAR