BEGIN:VCALENDAR
VERSION:2.0
PRODID:-//Tschann Libraire - ECPv6.15.20//NONSGML v1.0//EN
CALSCALE:GREGORIAN
METHOD:PUBLISH
X-WR-CALNAME:Tschann Libraire
X-ORIGINAL-URL:https://tschannlibraire.fr
X-WR-CALDESC:Évènements pour Tschann Libraire
REFRESH-INTERVAL;VALUE=DURATION:PT1H
X-Robots-Tag:noindex
X-PUBLISHED-TTL:PT1H
BEGIN:VTIMEZONE
TZID:Europe/Paris
BEGIN:DAYLIGHT
TZOFFSETFROM:+0100
TZOFFSETTO:+0200
TZNAME:CEST
DTSTART:20240331T010000
END:DAYLIGHT
BEGIN:STANDARD
TZOFFSETFROM:+0200
TZOFFSETTO:+0100
TZNAME:CET
DTSTART:20241027T010000
END:STANDARD
BEGIN:DAYLIGHT
TZOFFSETFROM:+0100
TZOFFSETTO:+0200
TZNAME:CEST
DTSTART:20250330T010000
END:DAYLIGHT
BEGIN:STANDARD
TZOFFSETFROM:+0200
TZOFFSETTO:+0100
TZNAME:CET
DTSTART:20251026T010000
END:STANDARD
BEGIN:DAYLIGHT
TZOFFSETFROM:+0100
TZOFFSETTO:+0200
TZNAME:CEST
DTSTART:20260329T010000
END:DAYLIGHT
BEGIN:STANDARD
TZOFFSETFROM:+0200
TZOFFSETTO:+0100
TZNAME:CET
DTSTART:20261025T010000
END:STANDARD
END:VTIMEZONE
BEGIN:VEVENT
DTSTART;TZID=Europe/Paris:20250406T150000
DTEND;TZID=Europe/Paris:20250406T170000
DTSTAMP:20260423T030231
CREATED:20250331T090223Z
LAST-MODIFIED:20250331T133607Z
UID:2039-1743951600-1743958800@tschannlibraire.fr
SUMMARY:Houchang Guilyardi\, Somatoses ou psychoses somatiques
DESCRIPTION:Tschann Libraire et les éditions Érès vous invitent à une rencontre avec Houchang Guilyardi autour de son livre Somatoses ou psychoques somatiques. L’auteur s’entretiendra avec Gorana Manenti\, Claude-Noëlle Pickmann et Jean-Jacques Blevis. \n\n\n\nUne description des mécanismes à l’œuvre dans les pathologies physiques. S’appuyant sur ses années d’expérience\, le psychanalyste développe des nouvelles approches préventives\, de clinique et de soins. Il s’intéresse également au corps organique\, physique ou hallucinatoire. \n\n\n\n\n\n\n\n\n\n\n\nLieu
URL:https://tschannlibraire.fr/evenement/houchang-guilyardi-somatoses-ou-psychoses-somatiques/
LOCATION:Tschann Libraire\, 125 boulevard du Montparnasse\, Paris\, 75006
CATEGORIES:Dans les murs
ATTACH;FMTTYPE=image/png:https://tschannlibraire.fr/wp-content/uploads/2025/03/image_2025-03-31_140724348.png
END:VEVENT
END:VCALENDAR