BEGIN:VCALENDAR
VERSION:2.0
PRODID:-//Tschann Libraire - ECPv6.15.20//NONSGML v1.0//EN
CALSCALE:GREGORIAN
METHOD:PUBLISH
X-WR-CALNAME:Tschann Libraire
X-ORIGINAL-URL:https://tschannlibraire.fr
X-WR-CALDESC:Évènements pour Tschann Libraire
REFRESH-INTERVAL;VALUE=DURATION:PT1H
X-Robots-Tag:noindex
X-PUBLISHED-TTL:PT1H
BEGIN:VTIMEZONE
TZID:Europe/Paris
BEGIN:DAYLIGHT
TZOFFSETFROM:+0100
TZOFFSETTO:+0200
TZNAME:CEST
DTSTART:20240331T010000
END:DAYLIGHT
BEGIN:STANDARD
TZOFFSETFROM:+0200
TZOFFSETTO:+0100
TZNAME:CET
DTSTART:20241027T010000
END:STANDARD
BEGIN:DAYLIGHT
TZOFFSETFROM:+0100
TZOFFSETTO:+0200
TZNAME:CEST
DTSTART:20250330T010000
END:DAYLIGHT
BEGIN:STANDARD
TZOFFSETFROM:+0200
TZOFFSETTO:+0100
TZNAME:CET
DTSTART:20251026T010000
END:STANDARD
BEGIN:DAYLIGHT
TZOFFSETFROM:+0100
TZOFFSETTO:+0200
TZNAME:CEST
DTSTART:20260329T010000
END:DAYLIGHT
BEGIN:STANDARD
TZOFFSETFROM:+0200
TZOFFSETTO:+0100
TZNAME:CET
DTSTART:20261025T010000
END:STANDARD
END:VTIMEZONE
BEGIN:VEVENT
DTSTART;TZID=Europe/Paris:20250613T193000
DTEND;TZID=Europe/Paris:20250613T213000
DTSTAMP:20260423T000940
CREATED:20250606T150957Z
LAST-MODIFIED:20250606T153106Z
UID:2224-1749843000-1749850200@tschannlibraire.fr
SUMMARY:Yves Sarfati\, De l'Inconscient à l'abstraction : le cas Hartung
DESCRIPTION:Tschann Libraire et les Éditions les Presses du Réel vous invitent à une rencontre avec Yves Sarfati\, psychanalyste\, autour de son ouvrage De l’Inconscient à l’abstraction : le cas Hartung. L’auteur s’entretiendra avec Pauline Mari. \n\n\n\nLe lecteur pénètrera ainsi dans trois inconscients : l’inconscient moteur\, mémoire des gestes ; l’inconscient cognitif\, mécanismes cérébraux et sensoriels ; l’inconscient freudien\, mémoire de l’oubli\, des manques et des blancs. Fortes de cette approche multiple\, les œuvres y seront décryptées comme autant de hiéroglyphes\, de psychogrammes ou de rêves dessinés.La production de Hartung apparaîtra dès lors comme des reflets électroencéphalographiques et kinesthésiques d’états traversés tout au long de son histoire. Une vie dense qui commence en Prusse en 1904 ; s’achève à Antibes en 1989\, au lendemain de la chute du mur de Berlin ; et qui s’avère scindée en son mitan par la triple expérience de la guerre\, de l’amputation et du changement de nationalité. À travers le cas Hartung\, et grâce à l’étude de nombreux inédits comme le journal intime de l’adolescence\, on parcourra une grande biographie psychédélique\, riche de 320 illustrations commentées. On visitera\, chemin faisant\, des indices corporels et mentaux rendus à leurs sens intimes\, géopolitiques et foncièrement paradoxaux\, et les œuvres apparaîtront comme autant de révélations parlantes sur la prédestination d’un individu dans le XXe siècle. \n\n\n\n \n\n\n\n\n\n\n\n\n\n\n\nLieu
URL:https://tschannlibraire.fr/evenement/yves-sarfati-de-linconscient-a-labstraction-le-cas-hartung/
LOCATION:Tschann Libraire\, 125 boulevard du Montparnasse\, Paris\, 75006
CATEGORIES:Dans les murs
ATTACH;FMTTYPE=image/png:https://tschannlibraire.fr/wp-content/uploads/2025/05/image-4.png
END:VEVENT
END:VCALENDAR