BEGIN:VCALENDAR
VERSION:2.0
PRODID:-//Tschann Libraire - ECPv6.15.20//NONSGML v1.0//EN
CALSCALE:GREGORIAN
METHOD:PUBLISH
X-ORIGINAL-URL:https://tschannlibraire.fr
X-WR-CALDESC:Évènements pour Tschann Libraire
REFRESH-INTERVAL;VALUE=DURATION:PT1H
X-Robots-Tag:noindex
X-PUBLISHED-TTL:PT1H
BEGIN:VTIMEZONE
TZID:Europe/Paris
BEGIN:DAYLIGHT
TZOFFSETFROM:+0100
TZOFFSETTO:+0200
TZNAME:CEST
DTSTART:20240331T010000
END:DAYLIGHT
BEGIN:STANDARD
TZOFFSETFROM:+0200
TZOFFSETTO:+0100
TZNAME:CET
DTSTART:20241027T010000
END:STANDARD
BEGIN:DAYLIGHT
TZOFFSETFROM:+0100
TZOFFSETTO:+0200
TZNAME:CEST
DTSTART:20250330T010000
END:DAYLIGHT
BEGIN:STANDARD
TZOFFSETFROM:+0200
TZOFFSETTO:+0100
TZNAME:CET
DTSTART:20251026T010000
END:STANDARD
BEGIN:DAYLIGHT
TZOFFSETFROM:+0100
TZOFFSETTO:+0200
TZNAME:CEST
DTSTART:20260329T010000
END:DAYLIGHT
BEGIN:STANDARD
TZOFFSETFROM:+0200
TZOFFSETTO:+0100
TZNAME:CET
DTSTART:20261025T010000
END:STANDARD
END:VTIMEZONE
BEGIN:VEVENT
DTSTART;TZID=Europe/Paris:20250624T193000
DTEND;TZID=Europe/Paris:20250624T213000
DTSTAMP:20260423T001220
CREATED:20250623T171052Z
LAST-MODIFIED:20250623T173808Z
UID:2332-1750793400-1750800600@tschannlibraire.fr
SUMMARY:Yann Diener\, L'Inconscient inculqué à mon ordinateur
DESCRIPTION:Tschann Libraire et les éditions Premier parallèle vous invitent à une rencontre avec Yann Diener\, psychanalyste\, autour de son ouvrage L’Inconscient inculqué à mon ordinateur. L’auteur dialoguera avec Frédéric Joly\, ayant récemment commis l’ouvrage La Langue confisquée. Lire Victor Klemperer aujourd’hui\, également aux éditions Premier parallèle. \n\n\n\nUne machine peut-elle commettre un lapsus ? Dans ce livre\, le psychanalyste Yann Diener imagine un dialogue entre une intelligence artificielle et son concepteur\, bien décidé à implémenter dans celle qu’il appelle « Lia » l’algorithme de la métaphore\, et la voir ainsi agir malgré elle.Si les machines peuvent simuler de nombreux aspects de la communication humaine\, peuvent-elles imiter ce qui fait le sel de la parole\, c’est-à-dire ses équivoques\, ses ratages\, ses trébuchements  ?Née de conversations entre Yann Diener et un ingénieur programmeur\, cette proposition n’est peut-être pas si absurde qu’il y paraît. Elle a en tout cas le mérite immédiat de mettre les concepts de la psychanalyse à l’épreuve des langages informatiques. \n\n\n\n\n\n\n\n\n\n\n\nLieu
URL:https://tschannlibraire.fr/evenement/yann-diener-linconscient-inculque-a-mon-ordinateur-2/
LOCATION:Tschann Libraire Jeunesse\, 125 boulevard du Montparnasse\, Paris\, 75006
CATEGORIES:Dans les murs
ATTACH;FMTTYPE=image/jpeg:https://tschannlibraire.fr/wp-content/uploads/2025/06/9782850612961_1_75.jpg
END:VEVENT
END:VCALENDAR