BEGIN:VCALENDAR
VERSION:2.0
PRODID:-//Tschann Libraire - ECPv6.15.20//NONSGML v1.0//EN
CALSCALE:GREGORIAN
METHOD:PUBLISH
X-WR-CALNAME:Tschann Libraire
X-ORIGINAL-URL:https://tschannlibraire.fr
X-WR-CALDESC:Évènements pour Tschann Libraire
REFRESH-INTERVAL;VALUE=DURATION:PT1H
X-Robots-Tag:noindex
X-PUBLISHED-TTL:PT1H
BEGIN:VTIMEZONE
TZID:Europe/Paris
BEGIN:DAYLIGHT
TZOFFSETFROM:+0100
TZOFFSETTO:+0200
TZNAME:CEST
DTSTART:20240331T010000
END:DAYLIGHT
BEGIN:STANDARD
TZOFFSETFROM:+0200
TZOFFSETTO:+0100
TZNAME:CET
DTSTART:20241027T010000
END:STANDARD
BEGIN:DAYLIGHT
TZOFFSETFROM:+0100
TZOFFSETTO:+0200
TZNAME:CEST
DTSTART:20250330T010000
END:DAYLIGHT
BEGIN:STANDARD
TZOFFSETFROM:+0200
TZOFFSETTO:+0100
TZNAME:CET
DTSTART:20251026T010000
END:STANDARD
BEGIN:DAYLIGHT
TZOFFSETFROM:+0100
TZOFFSETTO:+0200
TZNAME:CEST
DTSTART:20260329T010000
END:DAYLIGHT
BEGIN:STANDARD
TZOFFSETFROM:+0200
TZOFFSETTO:+0100
TZNAME:CET
DTSTART:20261025T010000
END:STANDARD
END:VTIMEZONE
BEGIN:VEVENT
DTSTART;TZID=Europe/Paris:20250625T200000
DTEND;TZID=Europe/Paris:20250625T220000
DTSTAMP:20260422T154549
CREATED:20250623T170802Z
LAST-MODIFIED:20250623T174614Z
UID:2328-1750881600-1750888800@tschannlibraire.fr
SUMMARY:Houria Abdelouahed et Adonis\, Éros & Islam
DESCRIPTION:Tschann Libraire et les éditions du Seuil vous invitent à une rencontre avec Houria Abdelouahed à l’occasion de la parution du livre écrit avec le poète Adonis\, Éros & Islam. La fable\, la femme\, la loi. Houria Abdelouahed s’entretiendra avec Sylvie Sesé-Léger. \n\n\n\nPar conséquent\, les règnes\, qui se sont succédé dans les pays arabo-musulmans\, ne sont que des variantes du premier sens du califat. C’est dans ce cadre que l’on peut comprendre la condition de la femme\, la menace qui pèse sur les innovateurs\, la censure qui empêche la pensée et toute forme de créativité. Le ciel lui-même intervient pour soutenir le désir-plaisir de l’homme. L’angoisse de ce dernier devant le féminin s’est transformée en un désir d’écrasement du féminin. On peut ajouter que la vision monothéiste\, qu’elle soit musulmane\, chrétienne ou juive\, a transformé le divin en un instrument de pouvoir. \n\n\n\n\n\n\n\n\n\n\n\nLieu
URL:https://tschannlibraire.fr/evenement/houria-abdelouahed-et-adonis-eros-islam/
LOCATION:Tschann Libraire\, 125 boulevard du Montparnasse\, Paris\, 75006
CATEGORIES:Dans les murs
ATTACH;FMTTYPE=image/png:https://tschannlibraire.fr/wp-content/uploads/2025/06/image-2.png
END:VEVENT
END:VCALENDAR